BEGIN:VCALENDAR
VERSION:2.0
PRODID:-//caputah.org//NONSGML kigkonsult.se iCalcreator 2.30.10//
CALSCALE:GREGORIAN
METHOD:PUBLISH
UID:c9aea602-07ca-4647-af35-95d60754ba3b
X-WR-CALDESC:Navigating unemployment costs\, HR challenges\, and compliance
  requirements can feel overwhelming—but it doesn’t have to be. Join this i
 nsightful webinar to discover practical strategies that will help your non
 profit stay financially resilient\, compliant\, and efficient.\n\nWhat you
 'll gain: \n\n• Mastering Unemployment Expenses – Learn how to evaluate an
 d manage unemployment costs effectively while navigating pending state and
  federal legislation that could impact your budget in 2026. \n\n• Remote W
 orkforce Compliance – Stay ahead of state-specific unemployment regulation
 s for remote employees and ensure your nonprofit remains compliant. \n\n• 
 Optimizing HR Processes – Discover strategies to streamline HR operations\
 , enhance regulatory compliance\, and reduce administrative burdens. Don’t
  miss this opportunity to equip your nonprofit with the tools it needs to 
 thrive in today's complex landscape. Join us and gain valuable insights to
  safeguard your organization’s future!\n\nAbout First Nonprofit\n\nFirst N
 onprofit was created to help nonprofit\, governmental\, and tribal entitie
 s better manage their mandatory unemployment expenses\, allowing them to c
 hannel more funds into the causes they champion and the populations they s
 erve.
X-WR-RELCALID:bff166332bdabfb6a4de4d0006d5abd2
X-WR-TIMEZONE:America/Denver
BEGIN:VTIMEZONE
TZID:America/Denver
BEGIN:STANDARD
TZNAME:MST
DTSTART:20241103T020000
TZOFFSETFROM:-0600
TZOFFSETTO:-0700
RDATE:20251102T020000
RDATE:20261101T020000
END:STANDARD
BEGIN:DAYLIGHT
TZNAME:MDT
DTSTART:20250309T020000
TZOFFSETFROM:-0700
TZOFFSETTO:-0600
RDATE:20260308T020000
RDATE:20270314T020000
END:DAYLIGHT
END:VTIMEZONE
BEGIN:VEVENT
UID:272f61c9-1bc8-4fb1-957b-87c06e4906f9
DTSTAMP:20260422T104837Z
DESCRIPTION:Navigating unemployment costs\, HR challenges\, and compliance 
 requirements can feel overwhelming—but it doesn’t have to be. Join this in
 sightful webinar to discover practical strategies that will help your nonp
 rofit stay financially resilient\, compliant\, and efficient.\n\nWhat you'
 ll gain: \n\n• Mastering Unemployment Expenses – Learn how to evaluate and
  manage unemployment costs effectively while navigating pending state and 
 federal legislation that could impact your budget in 2026. \n\n• Remote Wo
 rkforce Compliance – Stay ahead of state-specific unemployment regulations
  for remote employees and ensure your nonprofit remains compliant. \n\n• O
 ptimizing HR Processes – Discover strategies to streamline HR operations\,
  enhance regulatory compliance\, and reduce administrative burdens. Don’t 
 miss this opportunity to equip your nonprofit with the tools it needs to t
 hrive in today's complex landscape. Join us and gain valuable insights to 
 safeguard your organization’s future!\n\nAbout First Nonprofit\n\nFirst No
 nprofit was created to help nonprofit\, governmental\, and tribal entities
  better manage their mandatory unemployment expenses\, allowing them to ch
 annel more funds into the causes they champion and the populations they se
 rve.
DTSTART;TZID=America/Denver:20251009T120000
DTEND;TZID=America/Denver:20251009T130000
LOCATION:https://members.utahnonprofits.org/una-event-calendar/Details/safe
 guarding-your-nonprofit-strategies-for-unemployment-hr-1492826?sourceTypeI
 d=Website
SUMMARY:UNA - Safeguarding Your Nonprofit: Strategies for Unemployment & HR
END:VEVENT
END:VCALENDAR
