BEGIN:VCALENDAR
VERSION:2.0
PRODID:-//caputah.org//NONSGML kigkonsult.se iCalcreator 2.30.10//
CALSCALE:GREGORIAN
METHOD:PUBLISH
UID:3fb61dbd-35cd-49eb-bf79-f03ccf7136ef
X-WR-CALDESC:Head Start (HS) and Early Head Start (EHS) are some of the lar
 gest federally funded programs. The Head Start Act and the Head Start Prog
 ram Performance Standards (HSPPS) contain pages and pages of guidelines th
 at programs must follow to stay in compliance. The goal is to help you get
  comfortable with those guidelines.\n\nBased on decades of feedback\, we b
 uilt this online boot camp to blend regulations\, best practices and actio
 n planning with the opportunity to ask your questions.\n\nParticipants dec
 lare Wipfli training to be “empowering\,” “outstanding\,” “meaningful\,” “
 invaluable” and “relevant.”\n\nWho should attend\nIf you’re new\, if you’v
 e been around a while and want a refresher\, if you’re program oriented or
  if you’re fiscal oriented — this session is for you. There will be someth
 ing for everyone:\n\nLeaders interested in learning how to apply complianc
 e with current regulations while still meeting the mission\nThose new to l
 eadership in the agency who are now responsible for financial and/or progr
 am compliance\nTeams\, including the CEO/executive director\, fiscal team\
 , program teams\, policy council and board/tribal council members\n\nRegis
 tration fee\nRegular rate: $975 per person\n\nWipfli accepts AmEx\, Discov
 er\, Visa and Mastercard.\n\nRegistration fees include:\n\nUp to 9 CPE cre
 dits in accordance with the standards of the National Registry of CPE Spon
 sors. CPE credits are granted based on a 50-minute hour.\nA training workb
 ook.\nReference materials (any PowerPoint presentations and/or additional 
 references) available for download.\n\nDaily schedule\nTuesday\, October 7
 \, 2025\n\n10:30 a.m.-12 p.m. and 1-2:30 p.m CT\n\nHS history\nHS regulati
 ons\nGovernance\nThe culture of safety and continuous improvement\nWednesd
 ay\, October 8\, 2025\n\n10:30 a.m.-12 p.m. and 1-2:30 p.m CT\n\nHR compli
 ance in HS\nEligibility\, recruitment\, selection\, enrollment and attenda
 nce (ERSEA)\n \n\nThursday\, October 9\, 2025\n\n10:30 a.m.-12 p.m. and 1-
 2:30 p.m CT\n\nProgram design (health\, nutrition\, parent involvement\, r
 atios\, etc.)\nCommunity involvement aka in-kind and wrap-up
X-WR-RELCALID:86710c576b164ebc2c8d48047ea0dd78
X-WR-TIMEZONE:America/Denver
BEGIN:VTIMEZONE
TZID:America/Denver
BEGIN:STANDARD
TZNAME:MST
DTSTART:20241103T020000
TZOFFSETFROM:-0600
TZOFFSETTO:-0700
RDATE:20251102T020000
RDATE:20261101T020000
END:STANDARD
BEGIN:DAYLIGHT
TZNAME:MDT
DTSTART:20250309T020000
TZOFFSETFROM:-0700
TZOFFSETTO:-0600
RDATE:20260308T020000
RDATE:20270314T020000
END:DAYLIGHT
END:VTIMEZONE
BEGIN:VEVENT
UID:8578cfdf-6a3f-4ec1-aad2-0509f3a55bd8
DTSTAMP:20260422T104235Z
DESCRIPTION:Head Start (HS) and Early Head Start (EHS) are some of the larg
 est federally funded programs. The Head Start Act and the Head Start Progr
 am Performance Standards (HSPPS) contain pages and pages of guidelines tha
 t programs must follow to stay in compliance. The goal is to help you get 
 comfortable with those guidelines.\n\nBased on decades of feedback\, we bu
 ilt this online boot camp to blend regulations\, best practices and action
  planning with the opportunity to ask your questions.\n\nParticipants decl
 are Wipfli training to be “empowering\,” “outstanding\,” “meaningful\,” “i
 nvaluable” and “relevant.”\n\nWho should attend\nIf you’re new\, if you’ve
  been around a while and want a refresher\, if you’re program oriented or 
 if you’re fiscal oriented — this session is for you. There will be somethi
 ng for everyone:\n\nLeaders interested in learning how to apply compliance
  with current regulations while still meeting the mission\nThose new to le
 adership in the agency who are now responsible for financial and/or progra
 m compliance\nTeams\, including the CEO/executive director\, fiscal team\,
  program teams\, policy council and board/tribal council members\n\nRegist
 ration fee\nRegular rate: $975 per person\n\nWipfli accepts AmEx\, Discove
 r\, Visa and Mastercard.\n\nRegistration fees include:\n\nUp to 9 CPE cred
 its in accordance with the standards of the National Registry of CPE Spons
 ors. CPE credits are granted based on a 50-minute hour.\nA training workbo
 ok.\nReference materials (any PowerPoint presentations and/or additional r
 eferences) available for download.\n\nDaily schedule\nTuesday\, October 7\
 , 2025\n\n10:30 a.m.-12 p.m. and 1-2:30 p.m CT\n\nHS history\nHS regulatio
 ns\nGovernance\nThe culture of safety and continuous improvement\nWednesda
 y\, October 8\, 2025\n\n10:30 a.m.-12 p.m. and 1-2:30 p.m CT\n\nHR complia
 nce in HS\nEligibility\, recruitment\, selection\, enrollment and attendan
 ce (ERSEA)\n \n\nThursday\, October 9\, 2025\n\n10:30 a.m.-12 p.m. and 1-2
 :30 p.m CT\n\nProgram design (health\, nutrition\, parent involvement\, ra
 tios\, etc.)\nCommunity involvement aka in-kind and wrap-up
DTSTART;TZID=America/Denver:20251007T040000
DTEND;TZID=America/Denver:20251009T040001
LOCATION:https://www.wipfli.com/events/np-early-head-start-regulations-boot
 -camp-october-2025?utm_medium=email&utm_term=N%2FA&utm_source=CIJ&utm_cont
 ent=NGE%20-%20October%20HS%20email%208.27.25%20%28KA%29&utm_campaign=NGE%2
 0-%202025%20Training%20Emails
SUMMARY:WIPFLI - Head Start/Early Head Start regulations boot camp
END:VEVENT
END:VCALENDAR
