BEGIN:VCALENDAR
VERSION:2.0
PRODID:-//caputah.org//NONSGML kigkonsult.se iCalcreator 2.30.10//
CALSCALE:GREGORIAN
METHOD:PUBLISH
UID:d0c59cbc-d7f3-4e79-be47-25b7675da059
X-WR-CALDESC:\nJoin us for a dynamic session to explore\, learn\, and celeb
 rate WAP accomplishments\, successes\, and innovation this year. This exci
 ting webinar will feature testimonial videos\, local awards and more. From
  talking points and graphics from the  Energy Awareness Month Toolkit agen
 cies can highlight their hardworking WAP workforces\, professional growth 
 at training centers\, and new approaches enabling projects in partnerships
  with your local weatherization providers and community partners. Our aim 
 is to leave this webinar feeling inspired and equipped to host a robust En
 ergy Awareness Month and Weatherization Day campaign. \n\nWe encourage you
  to save the date\, register\, and invite a peer to attend.
X-WR-RELCALID:25d73de00f0f7b3730a7f61b9c7b51f1
X-WR-TIMEZONE:America/Denver
BEGIN:VTIMEZONE
TZID:America/Denver
BEGIN:STANDARD
TZNAME:MST
DTSTART:20241103T020000
TZOFFSETFROM:-0600
TZOFFSETTO:-0700
RDATE:20251102T020000
RDATE:20261101T020000
END:STANDARD
BEGIN:DAYLIGHT
TZNAME:MDT
DTSTART:20250309T020000
TZOFFSETFROM:-0700
TZOFFSETTO:-0600
RDATE:20260308T020000
RDATE:20270314T020000
END:DAYLIGHT
END:VTIMEZONE
BEGIN:VEVENT
UID:37cb10d2-2780-46f3-a5e4-293ac227631b
DTSTAMP:20260422T104651Z
DESCRIPTION:\nJoin us for a dynamic session to explore\, learn\, and celebr
 ate WAP accomplishments\, successes\, and innovation this year. This excit
 ing webinar will feature testimonial videos\, local awards and more. From 
 talking points and graphics from the  Energy Awareness Month Toolkit agenc
 ies can highlight their hardworking WAP workforces\, professional growth a
 t training centers\, and new approaches enabling projects in partnerships 
 with your local weatherization providers and community partners. Our aim i
 s to leave this webinar feeling inspired and equipped to host a robust Ene
 rgy Awareness Month and Weatherization Day campaign. \n\nWe encourage you 
 to save the date\, register\, and invite a peer to attend.
DTSTART;TZID=America/Denver:20251015T120000
DTEND;TZID=America/Denver:20251015T130000
LOCATION:https://communityactionpartnership.zoom.us/webinar/register/WN_jPH
 5Go10TuiGhRyDmfJnMg#/registration
SUMMARY:NCAP - NCAP Energy Partnership Webinar: Amplifying Impact - 2025 En
 ergy Awareness Month & Weatherization Day
END:VEVENT
END:VCALENDAR
