BEGIN:VCALENDAR
VERSION:2.0
PRODID:-//caputah.org//NONSGML kigkonsult.se iCalcreator 2.30.10//
CALSCALE:GREGORIAN
METHOD:PUBLISH
UID:e6634450-f51a-471a-aa06-bfa543ad7c13
X-WR-CALDESC:Tech Talks are monthly sessions that help participants learn m
 ore about a variety of technology related subjects in a stress free\, non-
 judgmental atmosphere. Topics include Cybersecurity\, Social Media\, Share
 Point\, Email\, and More.  Sessions are held the third Thursday of every m
 onth at 3:00pm CST | 2:00pm MST.
X-WR-RELCALID:46311cef5714ea90b2d82acbeb668776
X-WR-TIMEZONE:America/Denver
BEGIN:VTIMEZONE
TZID:America/Denver
BEGIN:STANDARD
TZNAME:MST
DTSTART:20241103T020000
TZOFFSETFROM:-0600
TZOFFSETTO:-0700
RDATE:20251102T020000
RDATE:20261101T020000
END:STANDARD
BEGIN:DAYLIGHT
TZNAME:MDT
DTSTART:20250309T020000
TZOFFSETFROM:-0700
TZOFFSETTO:-0600
RDATE:20260308T020000
RDATE:20270314T020000
END:DAYLIGHT
END:VTIMEZONE
BEGIN:VEVENT
UID:90fb5bf0-8769-4845-8d76-8e3ed9fdd6c1
DTSTAMP:20260422T103938Z
DESCRIPTION:Tech Talks are monthly sessions that help participants learn mo
 re about a variety of technology related subjects in a stress free\, non-j
 udgmental atmosphere. Topics include Cybersecurity\, Social Media\, ShareP
 oint\, Email\, and More.  Sessions are held the third Thursday of every mo
 nth at 3:00pm CST | 2:00pm MST.
DTSTART;TZID=America/Denver:20251016T140000
DTEND;TZID=America/Denver:20251016T150000
LOCATION:https://www.capnd.org/events/trainings-and-events/tech-talks.html
SUMMARY:CAPND - Tech Talk - Internet Basics\, Tips\, & Tricks
END:VEVENT
END:VCALENDAR
