BEGIN:VCALENDAR
VERSION:2.0
PRODID:-//caputah.org//NONSGML kigkonsult.se iCalcreator 2.30.10//
CALSCALE:GREGORIAN
METHOD:PUBLISH
UID:8b9c889b-1a27-4066-94e1-008e6b8bc236
X-WR-CALDESC:Cost:\nUNA Members: $40.50 (Using the discount code found in t
 he Info Hub under Partner Training Discount Codes)\nNot-Yet-Members: $45.0
 0\n\nIn an era of rapid changes and uncertainty\, how should board members
  respond? What’s the board’s role prioritizing and realigning programs\, b
 uilding strategic partnerships\, and re-thinking your organization’s reven
 ue model? How can the board help to ensure success and sustainability? Joi
 n us for a provocative\, interactive webinar where we’ll discuss: \n\nThe 
 challenges — and potential opportunities — of the present political moment
  \nLong-term thinking in a short-term world: How to benchmark success and 
 sustainability \nPrioritizing and protecting core programs\; deciding what
  to keep and what to cut \nThe board’s role in diversifying income and pro
 viding financial oversight \nStrengthening alliances with peers and partne
 rs. Knowledge is power!
X-WR-RELCALID:c52947853100c66d5da817323cd17d2c
X-WR-TIMEZONE:America/Denver
BEGIN:VTIMEZONE
TZID:America/Denver
BEGIN:STANDARD
TZNAME:MST
DTSTART:20241103T020000
TZOFFSETFROM:-0600
TZOFFSETTO:-0700
RDATE:20251102T020000
RDATE:20261101T020000
END:STANDARD
BEGIN:DAYLIGHT
TZNAME:MDT
DTSTART:20250309T020000
TZOFFSETFROM:-0700
TZOFFSETTO:-0600
RDATE:20260308T020000
RDATE:20270314T020000
END:DAYLIGHT
END:VTIMEZONE
BEGIN:VEVENT
UID:4c4af764-5ca4-4572-ad54-6d41ffc94861
DTSTAMP:20260422T104456Z
DESCRIPTION:Cost:\nUNA Members: $40.50 (Using the discount code found in th
 e Info Hub under Partner Training Discount Codes)\nNot-Yet-Members: $45.00
 \n\nIn an era of rapid changes and uncertainty\, how should board members 
 respond? What’s the board’s role prioritizing and realigning programs\, bu
 ilding strategic partnerships\, and re-thinking your organization’s revenu
 e model? How can the board help to ensure success and sustainability? Join
  us for a provocative\, interactive webinar where we’ll discuss: \n\nThe c
 hallenges — and potential opportunities — of the present political moment 
 \nLong-term thinking in a short-term world: How to benchmark success and s
 ustainability \nPrioritizing and protecting core programs\; deciding what 
 to keep and what to cut \nThe board’s role in diversifying income and prov
 iding financial oversight \nStrengthening alliances with peers and partner
 s. Knowledge is power!
DTSTART;TZID=America/Denver:20251016T080000
DTEND;TZID=America/Denver:20251016T093000
LOCATION:https://members.utahnonprofits.org/una-event-calendar/Details/stre
 ngthening-board-leadership-for-organizational-resiliency-1475787?sourceTyp
 eId=Website
SUMMARY:UNA - Strengthening Board Leadership for Organizational Resiliency
END:VEVENT
END:VCALENDAR
