BEGIN:VCALENDAR
VERSION:2.0
PRODID:-//caputah.org//NONSGML kigkonsult.se iCalcreator 2.30.10//
CALSCALE:GREGORIAN
METHOD:PUBLISH
UID:847c9a12-abe5-4408-b0a0-0c8c0ebeee1b
X-WR-CALDESC:Join us for a critical conversation on the future of CSBG and 
 the Community Action Network. While a federal judge has temporarily blocke
 d the Trump Administration from issuing or implementing layoffs for certai
 n union employees\, signaling that the Trump Administration’s reductions i
 n force are unlawful\, the impact of this decision on the Office of Commun
 ity Services remains unclear. \n\nWith things changing every day — sometim
 es every hour — this Coffee Chat will provide updates on the current lands
 cape\, NCAF’s advocacy strategy\, and the actions your agency must take to
  help protect our programs. \n\nPlease submit any questions in advance. Al
 l registrations will be approved starting Monday\, October 20th\, with pri
 ority given to Community Action Agencies and their state associations.
X-WR-RELCALID:9aaad6ffdfcb0c8ad26c5256196f031a
X-WR-TIMEZONE:America/Denver
BEGIN:VTIMEZONE
TZID:America/Denver
BEGIN:STANDARD
TZNAME:MST
DTSTART:20241103T020000
TZOFFSETFROM:-0600
TZOFFSETTO:-0700
RDATE:20251102T020000
RDATE:20261101T020000
END:STANDARD
BEGIN:DAYLIGHT
TZNAME:MDT
DTSTART:20250309T020000
TZOFFSETFROM:-0700
TZOFFSETTO:-0600
RDATE:20260308T020000
RDATE:20270314T020000
END:DAYLIGHT
END:VTIMEZONE
BEGIN:VEVENT
UID:407600aa-7a87-488a-b0a4-46397b63c72c
DTSTAMP:20260422T104210Z
DESCRIPTION:Join us for a critical conversation on the future of CSBG and t
 he Community Action Network. While a federal judge has temporarily blocked
  the Trump Administration from issuing or implementing layoffs for certain
  union employees\, signaling that the Trump Administration’s reductions in
  force are unlawful\, the impact of this decision on the Office of Communi
 ty Services remains unclear. \n\nWith things changing every day — sometime
 s every hour — this Coffee Chat will provide updates on the current landsc
 ape\, NCAF’s advocacy strategy\, and the actions your agency must take to 
 help protect our programs. \n\nPlease submit any questions in advance. All
  registrations will be approved starting Monday\, October 20th\, with prio
 rity given to Community Action Agencies and their state associations.
DTSTART;TZID=America/Denver:20251022T113000
DTEND;TZID=America/Denver:20251022T123000
LOCATION:https://us02web.zoom.us/webinar/register/WN_cLCYuEtbT2yJL1juq7v2xQ
 #/registration
SUMMARY:NCAF - Oct 22\, 2025 Coffee Chat with David Bradley
END:VEVENT
END:VCALENDAR
