BEGIN:VCALENDAR
VERSION:2.0
PRODID:-//caputah.org//NONSGML kigkonsult.se iCalcreator 2.30.10//
CALSCALE:GREGORIAN
METHOD:PUBLISH
UID:6573d3ca-da14-443a-9f96-211f37dc3751
X-WR-CALDESC:92% of nonprofits are adapting their fundraising strategies am
 id federal funding instability. From compliance upgrades to stay federal-g
 rant-ready to pivots toward alternate sources like foundations and donor-a
 dvised funds\, organizations are rapidly reinventing their portfolios… and
  we’ve got the lowdown. Join federal grant experts Fielding Jezreel\, MSW\
 , GPC\, and Rachel Werner\, MPA\, GPC\, PMP\, to unpack findings from Inst
 rumentl’s 2025 nonprofit survey (informed by 300+ organizations) and explo
 re what this evolving landscape means for the future of your grants progra
 m. You’ll learn: The top 5 fundraising strategies nonprofits are turning t
 o Tips to prepare for federal grant opportunities in 2026 Key insights to 
 stay competitive and compliant in today’s landscape How to identify better
 -fit grants with Instrumentl’s new & improved discovery algorithm Plus: Yo
 u’ll receive the full survey report\, resources from our panelists\, and a
  curated list of grant opportunities from Instrumentl’s database. Speakers
  Fielding Jezreel\, MSW\, GPC Founder and CEO Jezreel Consulting\, Federal
  Grants Accelerator Rachel Werner\, MPA\, GPC\, PMP Owner and CEO RBW Stra
 tegy\, Principal at MyFedTrainer
X-WR-RELCALID:614e147a39675e7c8d8faa4eedd55143
X-WR-TIMEZONE:America/Denver
BEGIN:VTIMEZONE
TZID:America/Denver
BEGIN:STANDARD
TZNAME:MST
DTSTART:20241103T020000
TZOFFSETFROM:-0600
TZOFFSETTO:-0700
RDATE:20251102T020000
RDATE:20261101T020000
END:STANDARD
BEGIN:DAYLIGHT
TZNAME:MDT
DTSTART:20250309T020000
TZOFFSETFROM:-0700
TZOFFSETTO:-0600
RDATE:20260308T020000
RDATE:20270314T020000
END:DAYLIGHT
END:VTIMEZONE
BEGIN:VEVENT
UID:c3dd5692-cf2e-4db4-93ba-ca30a64b7b94
DTSTAMP:20260422T104549Z
DESCRIPTION:92% of nonprofits are adapting their fundraising strategies ami
 d federal funding instability. From compliance upgrades to stay federal-gr
 ant-ready to pivots toward alternate sources like foundations and donor-ad
 vised funds\, organizations are rapidly reinventing their portfolios… and 
 we’ve got the lowdown. Join federal grant experts Fielding Jezreel\, MSW\,
  GPC\, and Rachel Werner\, MPA\, GPC\, PMP\, to unpack findings from Instr
 umentl’s 2025 nonprofit survey (informed by 300+ organizations) and explor
 e what this evolving landscape means for the future of your grants program
 . You’ll learn: The top 5 fundraising strategies nonprofits are turning to
  Tips to prepare for federal grant opportunities in 2026 Key insights to s
 tay competitive and compliant in today’s landscape How to identify better-
 fit grants with Instrumentl’s new & improved discovery algorithm Plus: You
 ’ll receive the full survey report\, resources from our panelists\, and a 
 curated list of grant opportunities from Instrumentl’s database. Speakers 
 Fielding Jezreel\, MSW\, GPC Founder and CEO Jezreel Consulting\, Federal 
 Grants Accelerator Rachel Werner\, MPA\, GPC\, PMP Owner and CEO RBW Strat
 egy\, Principal at MyFedTrainer
DTSTART;TZID=America/Denver:20251022T110000
DTEND;TZID=America/Denver:20251022T120000
LOCATION:https://members.utahnonprofits.org/una-event-calendar/Details/insi
 de-the-federal-funding-shakeup-how-300-nonprofits-are-adapting-1518364?sou
 rceTypeId=Website
SUMMARY:UNA - Inside the Federal Funding Shakeup: How 300+ Nonprofits Are A
 dapting
END:VEVENT
END:VCALENDAR
