BEGIN:VCALENDAR
VERSION:2.0
PRODID:-//caputah.org//NONSGML kigkonsult.se iCalcreator 2.30.10//
CALSCALE:GREGORIAN
METHOD:PUBLISH
UID:b5ff9b79-6bba-4494-a5dc-74b956b79c75
X-WR-CALDESC:Join CAPLAW for a conversation about the impact of the federal
  government shutdown on the Community Action Network. This session is desi
 gned as an open forum to hear and respond to CAAs as they navigate uncerta
 inty\, maintain operational continuity\, and plan proactively. Participant
 s will have the opportunity to ask questions and CAPLAW will also use this
  time to learn more about issues currently impacting the Network.
X-WR-RELCALID:b3e4fd7180e2c4d6ef46d431753ed87f
X-WR-TIMEZONE:America/Denver
BEGIN:VTIMEZONE
TZID:America/Denver
BEGIN:STANDARD
TZNAME:MST
DTSTART:20241103T020000
TZOFFSETFROM:-0600
TZOFFSETTO:-0700
RDATE:20251102T020000
RDATE:20261101T020000
END:STANDARD
BEGIN:DAYLIGHT
TZNAME:MDT
DTSTART:20250309T020000
TZOFFSETFROM:-0700
TZOFFSETTO:-0600
RDATE:20260308T020000
RDATE:20270314T020000
END:DAYLIGHT
END:VTIMEZONE
BEGIN:VEVENT
UID:4c07301f-82c3-4706-8033-9ca9a5275cf4
DTSTAMP:20260422T104527Z
DESCRIPTION:Join CAPLAW for a conversation about the impact of the federal 
 government shutdown on the Community Action Network. This session is desig
 ned as an open forum to hear and respond to CAAs as they navigate uncertai
 nty\, maintain operational continuity\, and plan proactively. Participants
  will have the opportunity to ask questions and CAPLAW will also use this 
 time to learn more about issues currently impacting the Network.
DTSTART;TZID=America/Denver:20251023T130000
DTEND;TZID=America/Denver:20251023T140000
LOCATION:https://us06web.zoom.us/webinar/register/WN_33pQhxjsQzKWcoduweJn3g
 #/registration
SUMMARY:CAPLAW - Ask CAPLAW: What the Federal Government Shutdown Means for
  CAAs
END:VEVENT
END:VCALENDAR
