BEGIN:VCALENDAR
VERSION:2.0
PRODID:-//caputah.org//NONSGML kigkonsult.se iCalcreator 2.30.10//
CALSCALE:GREGORIAN
METHOD:PUBLISH
UID:1c286c43-1cb2-4a02-8506-c1d5d2ae2e82
X-WR-CALDESC:This webinar will provide the framework and practical applicat
 ions for how your organization can plan in today’s environment\, depending
  on the threats you’re facing and the urgency of action and risk.\n\nAt th
 is webinar\, you will:\n\nLearn the basic elements of scenario positioning
 \, differentiating that more incremental and continuous process from the m
 ore traditional scenario planning\nLearn the basic elements of scenario pl
 anning\, in case that is what suits your organization\nLearn how to gauge 
 your organization’s current risk level and how to decide between the two p
 lanning methods\nAcquire easy-to-use new tools that can be used in scenari
 o positioning\nHear from an organization that has made use of these new to
 ols and processes under pressure.\nLearn how to help orchestrate planning 
 over an extended time period with the necessary engagement from staff and 
 board
X-WR-RELCALID:a0d311cf053116833ef9e9178839b770
X-WR-TIMEZONE:America/Denver
BEGIN:VTIMEZONE
TZID:America/Denver
BEGIN:STANDARD
TZNAME:MST
DTSTART:20241103T020000
TZOFFSETFROM:-0600
TZOFFSETTO:-0700
RDATE:20251102T020000
RDATE:20261101T020000
END:STANDARD
BEGIN:DAYLIGHT
TZNAME:MDT
DTSTART:20250309T020000
TZOFFSETFROM:-0700
TZOFFSETTO:-0600
RDATE:20260308T020000
RDATE:20270314T020000
END:DAYLIGHT
END:VTIMEZONE
BEGIN:VEVENT
UID:4e9e978d-739b-49ab-a37d-22e598b48592
DTSTAMP:20260422T104439Z
DESCRIPTION:This webinar will provide the framework and practical applicati
 ons for how your organization can plan in today’s environment\, depending 
 on the threats you’re facing and the urgency of action and risk.\n\nAt thi
 s webinar\, you will:\n\nLearn the basic elements of scenario positioning\
 , differentiating that more incremental and continuous process from the mo
 re traditional scenario planning\nLearn the basic elements of scenario pla
 nning\, in case that is what suits your organization\nLearn how to gauge y
 our organization’s current risk level and how to decide between the two pl
 anning methods\nAcquire easy-to-use new tools that can be used in scenario
  positioning\nHear from an organization that has made use of these new too
 ls and processes under pressure.\nLearn how to help orchestrate planning o
 ver an extended time period with the necessary engagement from staff and b
 oard
DTSTART;TZID=America/Denver:20251023T120000
DTEND;TZID=America/Denver:20251023T133000
LOCATION:https://nonprofitfinancials-22317552.hs-sites.com/rigorous-plannin
 g
SUMMARY:NCAP - Risk Sensitive Nonprofit Planning: New Tools/Approaches for 
 These Times
END:VEVENT
END:VCALENDAR
