BEGIN:VCALENDAR
VERSION:2.0
PRODID:-//caputah.org//NONSGML kigkonsult.se iCalcreator 2.30.10//
CALSCALE:GREGORIAN
METHOD:PUBLISH
UID:dc6b31a1-b207-4151-a03c-f69d8e794ff2
X-WR-CALDESC:You know the stakes are high. The people you serve need a voic
 e\, and your mission depends on breaking through barriers to influence pol
 icies and laws that shape their lives. But how do you balance your passion
  with the overwhelming complexities of government policies and legislative
  processes?\n\nThe Nonprofit Credential in Advocacy and Civic Engagement i
 s designed to help. Gain the tools and strategies to lead transformative a
 dvocacy efforts with confidence. From crafting organizational policies to 
 mobilizing collective action and engaging in the legal and political lands
 capes\, this credential empowers you to turn your passion into policy and 
 create lasting change for the communities you serve.\n\nLearn how to:\n\nD
 evelop a comprehensive advocacy plan for your organization\nCraft a public
  narrative that drives action and change\nAlign your mission with key poli
 cies\, decision-makers\, and community needs\nKeep your nonprofit organiza
 tion protected by learning about advocacy and lobbying laws\nLearn how to 
 engage more effectively with your elected officials\nBe bold and make your
  organization heard to create a lasting impact for your community.\n\nUpon
  completion\, your organization will earn the Nonprofit Credential Advocac
 y and Civic Engagement Badge\, a mark of excellence to share with your net
 work and show the world you’re serious about making an impact.\n\nNote: Th
 e Nonprofit Credential program is for 501(c) organizations only. \n\nCost
 \nUNA Members: $180 for the first person/$40 for each additional participa
 nt\nNot-Yet Members: $360 for the first person/$80 for each additional par
 ticipant\nEnter the below codes for free access\n•	AdvocacyFREE (for your o
 wn free registration) \n•	+1AdvocacyFREE (for a second participant from you
 r organization)\n\nCourse Dates\nOnline Training Sessions\nDay 1: Wednesda
 y October 22\, 2025 | 9:30 AM to 3:30 PM\nDay 2: Thursday October 23\, 202
 5 | 9:30 AM to 3:30 PM\n\nOrganizational Consultation\n40-minute consult o
 n Tuesday December 2\, 2025 (Dates are subject to change.)
X-WR-RELCALID:076172b93793847360b17af4266f7cb1
X-WR-TIMEZONE:America/Denver
BEGIN:VTIMEZONE
TZID:America/Denver
BEGIN:STANDARD
TZNAME:MST
DTSTART:20241103T020000
TZOFFSETFROM:-0600
TZOFFSETTO:-0700
RDATE:20251102T020000
RDATE:20261101T020000
END:STANDARD
BEGIN:DAYLIGHT
TZNAME:MDT
DTSTART:20250309T020000
TZOFFSETFROM:-0700
TZOFFSETTO:-0600
RDATE:20260308T020000
RDATE:20270314T020000
END:DAYLIGHT
END:VTIMEZONE
BEGIN:VEVENT
UID:3c3c1ae9-acdc-42c7-8bcc-7cfa59144644
DTSTAMP:20260422T104651Z
DESCRIPTION:You know the stakes are high. The people you serve need a voice
 \, and your mission depends on breaking through barriers to influence poli
 cies and laws that shape their lives. But how do you balance your passion 
 with the overwhelming complexities of government policies and legislative 
 processes?\n\nThe Nonprofit Credential in Advocacy and Civic Engagement is
  designed to help. Gain the tools and strategies to lead transformative ad
 vocacy efforts with confidence. From crafting organizational policies to m
 obilizing collective action and engaging in the legal and political landsc
 apes\, this credential empowers you to turn your passion into policy and c
 reate lasting change for the communities you serve.\n\nLearn how to:\n\nDe
 velop a comprehensive advocacy plan for your organization\nCraft a public 
 narrative that drives action and change\nAlign your mission with key polic
 ies\, decision-makers\, and community needs\nKeep your nonprofit organizat
 ion protected by learning about advocacy and lobbying laws\nLearn how to e
 ngage more effectively with your elected officials\nBe bold and make your 
 organization heard to create a lasting impact for your community.\n\nUpon 
 completion\, your organization will earn the Nonprofit Credential Advocacy
  and Civic Engagement Badge\, a mark of excellence to share with your netw
 ork and show the world you’re serious about making an impact.\n\nNote: The
  Nonprofit Credential program is for 501(c) organizations only. \n\nCost\n
 UNA Members: $180 for the first person/$40 for each additional participant
 \nNot-Yet Members: $360 for the first person/$80 for each additional parti
 cipant\nEnter the below codes for free access\n•	AdvocacyFREE (for your own
  free registration) \n•	+1AdvocacyFREE (for a second participant from your 
 organization)\n\nCourse Dates\nOnline Training Sessions\nDay 1: Wednesday 
 October 22\, 2025 | 9:30 AM to 3:30 PM\nDay 2: Thursday October 23\, 2025 
 | 9:30 AM to 3:30 PM\n\nOrganizational Consultation\n40-minute consult on 
 Tuesday December 2\, 2025 (Dates are subject to change.)
DTSTART;TZID=America/Denver:20251022T040000
DTEND;TZID=America/Denver:20251023T040001
LOCATION:https://members.utahnonprofits.org/una-event-calendar/Details/2025
 -nonprofit-credential-in-advocacy-and-civic-engagement-1275779?sourceTypeI
 d=Website
SUMMARY:UNA -2025 Nonprofit Credential in Advocacy and Civic Engagement
END:VEVENT
END:VCALENDAR
