BEGIN:VCALENDAR
VERSION:2.0
PRODID:-//caputah.org//NONSGML kigkonsult.se iCalcreator 2.30.10//
CALSCALE:GREGORIAN
METHOD:PUBLISH
UID:a9a0df93-4cfc-44ac-bee2-2ce662113f82
X-WR-CALDESC:Having strong internal controls and understanding the rules go
 verning how you can and cannot spend federal dollars are keys to fiscal ma
 nagement and overall compliance in your organization.\n\nProfessionals new
  to the organization\, as well as professionals who have been there for de
 cades\, will benefit from this two-to-four-day review of the administrativ
 e and cost principles/allocation sections of the Office of Management and 
 Budget's (OMB’s) 2 CFR Part 200 – Uniform Administrative Requirements\, Co
 st Principles and Audit Requirements for Federal Awards (also known as the
  “Uniform Guidance”). And if you administer a Head Start/Early Head Start 
 program\, you’ll want to stay for days three and four\, when we’ll discuss
  the latest impacts of the Head Start Act and the Head Start Program Perfo
 rmance Standards. \n\nReview the regulations you need to know to stay in c
 ompliance through examples\, stories and best practices learned from years
  of auditing and consulting. You won’t just learn about the regulations bu
 t\, more importantly\, you’ll learn how to implement them in your organiza
 tion immediately.\n\nWipfli’s nonprofit professionals have been presenting
  the highest-quality training for more than 40 years. Participants declare
  Wipfli training to be “empowering\,” “outstanding\,” “meaningful\,” “inva
 luable” and “relevant.”\n\nRegistration fee\nEarly-bird rate ends Septembe
 r 30\, 2025.\n\n3 days: $1475 (early-bird)\, $1525 (regular)\n2 days: $100
 0 (early-bird)\, $1050 (regular)\n1 day: $525 (early-bird)\, $600 (regular
 )\nMy Wipfli Membership Service members (NGE only) automatically receive a
 n additional $25 discount per registrant.\n\nWipfli accepts AmEx\, Discove
 r\, Visa and Mastercard.\n\nRegistration fees include:\n\nUp to 21 CPE cre
 dits in accordance with the standards of the National Registry of CPE Spon
 sors. CPE credits are granted based on a 50-minute hour.\nA training workb
 ook.\nReference materials (any PowerPoint presentations and/or additional 
 references) available for download.\nRefreshment breaks.\n\nHotel informat
 ion:\n\nHotel Emery\, Autograph Collection\n215 4th St.\nMinneapolis\, MN 
 55401\n612-340-2000\n($209 until September 30\, 2025)
X-WR-RELCALID:eef35e41f1e31aa8f28f726a08a11106
X-WR-TIMEZONE:America/Denver
BEGIN:VTIMEZONE
TZID:America/Denver
BEGIN:STANDARD
TZNAME:MST
DTSTART:20241103T020000
TZOFFSETFROM:-0600
TZOFFSETTO:-0700
RDATE:20251102T020000
RDATE:20261101T020000
END:STANDARD
BEGIN:DAYLIGHT
TZNAME:MDT
DTSTART:20250309T020000
TZOFFSETFROM:-0700
TZOFFSETTO:-0600
RDATE:20260308T020000
RDATE:20270314T020000
END:DAYLIGHT
END:VTIMEZONE
BEGIN:VEVENT
UID:ce081c00-8306-4481-a232-9a56459aef1e
DTSTAMP:20260422T104733Z
DESCRIPTION:Having strong internal controls and understanding the rules gov
 erning how you can and cannot spend federal dollars are keys to fiscal man
 agement and overall compliance in your organization.\n\nProfessionals new 
 to the organization\, as well as professionals who have been there for dec
 ades\, will benefit from this two-to-four-day review of the administrative
  and cost principles/allocation sections of the Office of Management and B
 udget's (OMB’s) 2 CFR Part 200 – Uniform Administrative Requirements\, Cos
 t Principles and Audit Requirements for Federal Awards (also known as the 
 “Uniform Guidance”). And if you administer a Head Start/Early Head Start p
 rogram\, you’ll want to stay for days three and four\, when we’ll discuss 
 the latest impacts of the Head Start Act and the Head Start Program Perfor
 mance Standards. \n\nReview the regulations you need to know to stay in co
 mpliance through examples\, stories and best practices learned from years 
 of auditing and consulting. You won’t just learn about the regulations but
 \, more importantly\, you’ll learn how to implement them in your organizat
 ion immediately.\n\nWipfli’s nonprofit professionals have been presenting 
 the highest-quality training for more than 40 years. Participants declare 
 Wipfli training to be “empowering\,” “outstanding\,” “meaningful\,” “inval
 uable” and “relevant.”\n\nRegistration fee\nEarly-bird rate ends September
  30\, 2025.\n\n3 days: $1475 (early-bird)\, $1525 (regular)\n2 days: $1000
  (early-bird)\, $1050 (regular)\n1 day: $525 (early-bird)\, $600 (regular)
 \nMy Wipfli Membership Service members (NGE only) automatically receive an
  additional $25 discount per registrant.\n\nWipfli accepts AmEx\, Discover
 \, Visa and Mastercard.\n\nRegistration fees include:\n\nUp to 21 CPE cred
 its in accordance with the standards of the National Registry of CPE Spons
 ors. CPE credits are granted based on a 50-minute hour.\nA training workbo
 ok.\nReference materials (any PowerPoint presentations and/or additional r
 eferences) available for download.\nRefreshment breaks.\n\nHotel informati
 on:\n\nHotel Emery\, Autograph Collection\n215 4th St.\nMinneapolis\, MN 5
 5401\n612-340-2000\n($209 until September 30\, 2025)
DTSTART;TZID=America/Denver:20251021T040000
DTEND;TZID=America/Denver:20251023T040001
LOCATION:Wipfli\, 150 S 5th St.\, Minneapolis\, MN 55402 US
SUMMARY:WIPFLI - In-person training on OMB’s Uniform Guidance and Head Star
 t (In Person)
END:VEVENT
END:VCALENDAR
