BEGIN:VCALENDAR
VERSION:2.0
PRODID:-//caputah.org//NONSGML kigkonsult.se iCalcreator 2.30.10//
CALSCALE:GREGORIAN
METHOD:PUBLISH
UID:4c584bdd-46af-4ea9-a3f3-ccfa2a0f15ec
X-WR-CALDESC:The NRMC team is excited to host an in-person event for the 20
 25 Risk Summit! This special educational event will bring together nonprof
 it leaders and industry professionals who support nonprofit missions. Watc
 h this space for more information about the upcoming 2-day conference\, in
 cluding educational sessions\, in-person networking opportunities\, and ev
 ening social events to build and develop relationships with like-minded se
 ctor professionals.
X-WR-RELCALID:bba8ea25d1fa6916a02ae2f134aff45d
X-WR-TIMEZONE:America/Denver
BEGIN:VTIMEZONE
TZID:America/Denver
BEGIN:STANDARD
TZNAME:MST
DTSTART:20241103T020000
TZOFFSETFROM:-0600
TZOFFSETTO:-0700
RDATE:20251102T020000
RDATE:20261101T020000
END:STANDARD
BEGIN:DAYLIGHT
TZNAME:MDT
DTSTART:20250309T020000
TZOFFSETFROM:-0700
TZOFFSETTO:-0600
RDATE:20260308T020000
RDATE:20270314T020000
END:DAYLIGHT
END:VTIMEZONE
BEGIN:VEVENT
UID:e6c3999e-6751-4572-86a1-0c98a69ba888
DTSTAMP:20260422T121051Z
DESCRIPTION:The NRMC team is excited to host an in-person event for the 202
 5 Risk Summit! This special educational event will bring together nonprofi
 t leaders and industry professionals who support nonprofit missions. Watch
  this space for more information about the upcoming 2-day conference\, inc
 luding educational sessions\, in-person networking opportunities\, and eve
 ning social events to build and develop relationships with like-minded sec
 tor professionals.
DTSTART;TZID=America/Denver:20251027T040000
DTEND;TZID=America/Denver:20251028T040001
LOCATION:Hyatt Regency\, 1800 Presidents St\, Reston\, VA 20190 US
SUMMARY:NRMC - 2025 Risk Summit
END:VEVENT
END:VCALENDAR
