BEGIN:VCALENDAR
VERSION:2.0
PRODID:-//caputah.org//NONSGML kigkonsult.se iCalcreator 2.30.10//
CALSCALE:GREGORIAN
METHOD:PUBLISH
UID:c7a904aa-1088-44fc-bf05-8ffd000552b6
X-WR-CALDESC:Manual\, repetitive tasks slow down service delivery and drain
  staff time. In this interactive session\, learn how Wayne Metro uses low-
 code platforms like Tray.io and Power Automate\, along with custom scripts
 \, to automate the work that matters most. We’ll walk through real example
 s—from pulling data across siloed systems to creating automated notificati
 ons and workflows—and share lessons learned along the way. Participants wi
 ll leave with practical steps for identifying automation opportunities in 
 their own agencies and tools to get started\, no matter their technical ba
 ckground.
X-WR-RELCALID:afe0d457eab06fab1193c5944fe6bb91
X-WR-TIMEZONE:America/Denver
BEGIN:VTIMEZONE
TZID:America/Denver
BEGIN:STANDARD
TZNAME:MST
DTSTART:20241103T020000
TZOFFSETFROM:-0600
TZOFFSETTO:-0700
RDATE:20251102T020000
RDATE:20261101T020000
END:STANDARD
BEGIN:DAYLIGHT
TZNAME:MDT
DTSTART:20250309T020000
TZOFFSETFROM:-0700
TZOFFSETTO:-0600
RDATE:20260308T020000
RDATE:20270314T020000
END:DAYLIGHT
END:VTIMEZONE
BEGIN:VEVENT
UID:fb91ad88-42e8-4902-8738-1abe7872bf3b
DTSTAMP:20260422T104105Z
DESCRIPTION:Manual\, repetitive tasks slow down service delivery and drain 
 staff time. In this interactive session\, learn how Wayne Metro uses low-c
 ode platforms like Tray.io and Power Automate\, along with custom scripts\
 , to automate the work that matters most. We’ll walk through real examples
 —from pulling data across siloed systems to creating automated notificatio
 ns and workflows—and share lessons learned along the way. Participants wil
 l leave with practical steps for identifying automation opportunities in t
 heir own agencies and tools to get started\, no matter their technical bac
 kground.
DTSTART;TZID=America/Denver:20251028T120000
DTEND;TZID=America/Denver:20251028T130000
LOCATION:https://communityactionpartnership.zoom.us/meeting/register/0TJ7YV
 E3T1SLJAnlp3r9Ng#/registration
SUMMARY:NCAP - Peer Data Webinar Series: Automating What Matters
END:VEVENT
END:VCALENDAR
