BEGIN:VCALENDAR
VERSION:2.0
PRODID:-//caputah.org//NONSGML kigkonsult.se iCalcreator 2.30.10//
CALSCALE:GREGORIAN
METHOD:PUBLISH
UID:4ca1a346-0c4c-4a1c-ada1-e21a39721ae2
X-WR-CALDESC:\nThe Community Action Network faces unprecedented challenges.
  \n\nThis Coffee Chat will focus on the evolving federal landscape\, congr
 essional engagement\, and how agencies can mobilize effectively in this mo
 ment. NCAF will share strategic updates and answer your questions. \n\nPle
 ase submit any questions in advance. All registrations will be approved st
 arting Monday\, October 27th\, with priority given to Community Action Age
 ncies and their state associations.
X-WR-RELCALID:5e3d45f9a4eb3e20655172095c90d723
X-WR-TIMEZONE:America/Denver
BEGIN:VTIMEZONE
TZID:America/Denver
BEGIN:STANDARD
TZNAME:MST
DTSTART:20241103T020000
TZOFFSETFROM:-0600
TZOFFSETTO:-0700
RDATE:20251102T020000
RDATE:20261101T020000
END:STANDARD
BEGIN:DAYLIGHT
TZNAME:MDT
DTSTART:20250309T020000
TZOFFSETFROM:-0700
TZOFFSETTO:-0600
RDATE:20260308T020000
RDATE:20270314T020000
END:DAYLIGHT
END:VTIMEZONE
BEGIN:VEVENT
UID:2559333c-5938-404e-9f42-7652ccf910b5
DTSTAMP:20260422T104143Z
DESCRIPTION:\nThe Community Action Network faces unprecedented challenges. 
 \n\nThis Coffee Chat will focus on the evolving federal landscape\, congre
 ssional engagement\, and how agencies can mobilize effectively in this mom
 ent. NCAF will share strategic updates and answer your questions. \n\nPlea
 se submit any questions in advance. All registrations will be approved sta
 rting Monday\, October 27th\, with priority given to Community Action Agen
 cies and their state associations.
DTSTART;TZID=America/Denver:20251030T113000
DTEND;TZID=America/Denver:20251030T123000
LOCATION:https://us02web.zoom.us/webinar/register/WN_vGJ0vsWIRr2B2tsG_6fvdA
 #/registration
SUMMARY:NCAF - Oct 30\, 2025 Coffee Chat with David Bradley
END:VEVENT
END:VCALENDAR
