BEGIN:VCALENDAR
VERSION:2.0
PRODID:-//caputah.org//NONSGML kigkonsult.se iCalcreator 2.30.10//
CALSCALE:GREGORIAN
METHOD:PUBLISH
UID:f6bab614-fb79-49cb-802a-e744c524abfd
X-WR-CALDESC:During the Fall 2025 Pathways to Excellence Implementer Traini
 ng\, participants will learn key internal assessment concepts and gain acc
 ess to tools used to develop and lead a self-study process. The results of
  a comprehensive self-study process can drive an organization's Continuous
  Quality Improvement efforts and reinforce the connection between an excel
 lence-driven culture and ongoing improvement. \n\nIn addition to learning 
 how to lead the self-study\, participants will learn ways to improve and s
 ystematize organizational assessment\, planning\, and performance processe
 s and to serve as a peer leader for agencies engaged in an ongoing excelle
 nce journey within the Pathways to Excellence program.\n\nRegistration for
  this training includes access to the Pathways to Excellence eCourse\, 1/2
 -day of interactive virtual training\, and a collection of tools and resou
 rces.\n\nNote: Agencies currently enrolled in the Pathways to Excellence S
 ilver Tier receive one complimentary registration. Excellence Team leaders
  have received a discount code via email.\n\nRegistration fees: \n\nMember
 s - $399 per person\n\nNon-Members - $499 per person \n\nThis training is 
 open to anyone in the Community Action Network\, but space is limited\, so
  register now!
X-WR-RELCALID:109de633303068d5f04990c51458f4fd
X-WR-TIMEZONE:America/Denver
BEGIN:VTIMEZONE
TZID:America/Denver
BEGIN:STANDARD
TZNAME:MST
DTSTART:20241103T020000
TZOFFSETFROM:-0600
TZOFFSETTO:-0700
RDATE:20251102T020000
RDATE:20261101T020000
END:STANDARD
BEGIN:DAYLIGHT
TZNAME:MDT
DTSTART:20250309T020000
TZOFFSETFROM:-0700
TZOFFSETTO:-0600
RDATE:20260308T020000
RDATE:20270314T020000
END:DAYLIGHT
END:VTIMEZONE
BEGIN:VEVENT
UID:bb908f55-245d-4607-8282-0ed5f9ad2ffb
DTSTAMP:20260422T103938Z
DESCRIPTION:During the Fall 2025 Pathways to Excellence Implementer Trainin
 g\, participants will learn key internal assessment concepts and gain acce
 ss to tools used to develop and lead a self-study process. The results of 
 a comprehensive self-study process can drive an organization's Continuous 
 Quality Improvement efforts and reinforce the connection between an excell
 ence-driven culture and ongoing improvement. \n\nIn addition to learning h
 ow to lead the self-study\, participants will learn ways to improve and sy
 stematize organizational assessment\, planning\, and performance processes
  and to serve as a peer leader for agencies engaged in an ongoing excellen
 ce journey within the Pathways to Excellence program.\n\nRegistration for 
 this training includes access to the Pathways to Excellence eCourse\, 1/2-
 day of interactive virtual training\, and a collection of tools and resour
 ces.\n\nNote: Agencies currently enrolled in the Pathways to Excellence Si
 lver Tier receive one complimentary registration. Excellence Team leaders 
 have received a discount code via email.\n\nRegistration fees: \n\nMembers
  - $399 per person\n\nNon-Members - $499 per person \n\nThis training is o
 pen to anyone in the Community Action Network\, but space is limited\, so 
 register now!
DTSTART;TZID=America/Denver:20251030T110000
DTEND;TZID=America/Denver:20251030T150000
LOCATION:https://ncap.users.membersuite.com/events/9a6db3bd-0078-c9f8-174a-
 0b4891a69b1b/details
SUMMARY:NCAP - Fall 2025 Pathways to Excellence Implementer Training
END:VEVENT
END:VCALENDAR
