BEGIN:VCALENDAR
VERSION:2.0
PRODID:-//caputah.org//NONSGML kigkonsult.se iCalcreator 2.30.10//
CALSCALE:GREGORIAN
METHOD:PUBLISH
UID:0adb7e97-56d7-4e16-9289-224aae7b4655
X-WR-CALDESC:Join us for a practical and engaging virtual training of the O
 ffice of Management and Budget’s (OMB) Uniform Guidance (2 CFR Part 200) —
  the cornerstone of federal grant compliance. This training is designed to
  help nonprofit and governmental professionals understand the federal gran
 t regulations\, how to apply them and how to avoid common pitfalls in mana
 ging federal awards.\n\nLed by experienced trainers with years of auditing
  and consulting experience\, this session blends regulatory review with re
 al-world examples and actionable insights. Whether you're new to federal g
 rants or looking to refresh your knowledge\, this training will provide th
 e clarity and confidence you need to manage awards responsibly.\n\nRegistr
 ation fee\n$1050 per person\n\nMy Wipfli nonprofit and government membersh
 ip service members automatically receive an additional $25 discount per re
 gistrant.\nWipfli accepts AmEx\, Discover\, Visa and Mastercard.\n\nThe re
 gistration fee includes:\n\nUp to 10.5 continuing professional education (
 CPE) credits in accordance with the standards of the National Registry of 
 CPE Sponsors. CPE credits are granted based on a 50-minute hour.\nReferenc
 e materials (any PowerPoint presentations and/or additional references) av
 ailable for download.\n\nDaily schedule\nTuesday\, October 28\, 2025\n12:3
 0 p.m.-4:00 p.m. CT | General provisions\, administrative requirement and 
 procurement\n\nWednesday\, October 29\, 2025  \n12:30 p.m.-4:00 p.m. CT | 
 Monitoring and reporting\, cost principles and cost allocation\n\nThursday
 \, October 30\, 2025\n12:30 p.m.-4:00 p.m. CT | Selected items of cost and
  audit requirements
X-WR-RELCALID:45387a70f7072642c11a7d61feec0214
X-WR-TIMEZONE:America/Denver
BEGIN:VTIMEZONE
TZID:America/Denver
BEGIN:STANDARD
TZNAME:MST
DTSTART:20241103T020000
TZOFFSETFROM:-0600
TZOFFSETTO:-0700
RDATE:20251102T020000
RDATE:20261101T020000
END:STANDARD
BEGIN:DAYLIGHT
TZNAME:MDT
DTSTART:20250309T020000
TZOFFSETFROM:-0700
TZOFFSETTO:-0600
RDATE:20260308T020000
RDATE:20270314T020000
END:DAYLIGHT
END:VTIMEZONE
BEGIN:VEVENT
UID:2dd98925-4e49-46f6-89b6-933877d9abbc
DTSTAMP:20260422T104128Z
DESCRIPTION:Join us for a practical and engaging virtual training of the Of
 fice of Management and Budget’s (OMB) Uniform Guidance (2 CFR Part 200) — 
 the cornerstone of federal grant compliance. This training is designed to 
 help nonprofit and governmental professionals understand the federal grant
  regulations\, how to apply them and how to avoid common pitfalls in manag
 ing federal awards.\n\nLed by experienced trainers with years of auditing 
 and consulting experience\, this session blends regulatory review with rea
 l-world examples and actionable insights. Whether you're new to federal gr
 ants or looking to refresh your knowledge\, this training will provide the
  clarity and confidence you need to manage awards responsibly.\n\nRegistra
 tion fee\n$1050 per person\n\nMy Wipfli nonprofit and government membershi
 p service members automatically receive an additional $25 discount per reg
 istrant.\nWipfli accepts AmEx\, Discover\, Visa and Mastercard.\n\nThe reg
 istration fee includes:\n\nUp to 10.5 continuing professional education (C
 PE) credits in accordance with the standards of the National Registry of C
 PE Sponsors. CPE credits are granted based on a 50-minute hour.\nReference
  materials (any PowerPoint presentations and/or additional references) ava
 ilable for download.\n\nDaily schedule\nTuesday\, October 28\, 2025\n12:30
  p.m.-4:00 p.m. CT | General provisions\, administrative requirement and p
 rocurement\n\nWednesday\, October 29\, 2025  \n12:30 p.m.-4:00 p.m. CT | M
 onitoring and reporting\, cost principles and cost allocation\n\nThursday\
 , October 30\, 2025\n12:30 p.m.-4:00 p.m. CT | Selected items of cost and 
 audit requirements
DTSTART;TZID=America/Denver:20251028T040000
DTEND;TZID=America/Denver:20251030T040001
LOCATION:https://www.wipfli.com/events/nge-omb-uniform-guidance-and-head-st
 art-october-2025
SUMMARY:WIPFLI - Uniform Guidance regulation training
END:VEVENT
END:VCALENDAR
