BEGIN:VCALENDAR
VERSION:2.0
PRODID:-//caputah.org//NONSGML kigkonsult.se iCalcreator 2.30.10//
CALSCALE:GREGORIAN
METHOD:PUBLISH
UID:b2f6ef99-b1d2-416a-9241-a2490fdde8a1
X-WR-CALDESC:This Whole Family Approach (WFA) webinar series aims to inspir
 e\, equip\, and connect Community Action Agencies who are driving transfor
 mational changes through this approach. This 4-part webinar series will hi
 ghlight real-world implementation strategies\, celebrate the progression o
 f several members of our Regional Advanced Community of Practice and foste
 r a learning community rooted in continuous learning and shared purpose. T
 ogether\, we’ll explore what’s possible when we center families\, align sy
 stems\, and commit to building pathways to economic mobility and well-bein
 g\, one connection at a time\, through a Whole Family Approach.   \n\nSept
 ember 22\, 2025 \n Leading with Purpose: CAPLP’s Journey in Advancing Whol
 e Family Work  \n\nOctober 29\, 2025\nWFA Practitioner's Roundtable Center
 ed on Data\n\nNovember 5\, 2025 \nScaling WFA & Measuring What Matters \n
 \nDecember 17\, 2025  \nReimagining Possibility: What WFA Can Become \nDat
 e & Time\nTime shows in \nMountain Time (US and Canada)\n\nSep 22\, 2025 1
 2:00 PM\nOct 29\, 2025 12:00 PM\nNov 5\, 2025 12:00 PM\nDec 17\, 2025 12:0
 0 PM
X-WR-RELCALID:c380b7c256c4bc6af91f48b06654de95
X-WR-TIMEZONE:America/Denver
BEGIN:VTIMEZONE
TZID:America/Denver
BEGIN:STANDARD
TZNAME:MST
DTSTART:20251102T020000
TZOFFSETFROM:-0600
TZOFFSETTO:-0700
RDATE:20261101T020000
END:STANDARD
BEGIN:DAYLIGHT
TZNAME:MDT
DTSTART:20250309T020000
TZOFFSETFROM:-0700
TZOFFSETTO:-0600
RDATE:20260308T020000
RDATE:20270314T020000
END:DAYLIGHT
END:VTIMEZONE
BEGIN:VEVENT
UID:b623950e-a0ab-4310-b019-acc3241433b5
DTSTAMP:20260422T092411Z
DESCRIPTION:This Whole Family Approach (WFA) webinar series aims to inspire
 \, equip\, and connect Community Action Agencies who are driving transform
 ational changes through this approach. This 4-part webinar series will hig
 hlight real-world implementation strategies\, celebrate the progression of
  several members of our Regional Advanced Community of Practice and foster
  a learning community rooted in continuous learning and shared purpose. To
 gether\, we’ll explore what’s possible when we center families\, align sys
 tems\, and commit to building pathways to economic mobility and well-being
 \, one connection at a time\, through a Whole Family Approach.   \n\nSepte
 mber 22\, 2025 \n Leading with Purpose: CAPLP’s Journey in Advancing Whole
  Family Work  \n\nOctober 29\, 2025\nWFA Practitioner's Roundtable Centere
 d on Data\n\nNovember 5\, 2025 \nScaling WFA & Measuring What Matters \n\n
 December 17\, 2025  \nReimagining Possibility: What WFA Can Become \nDate 
 & Time\nTime shows in \nMountain Time (US and Canada)\n\nSep 22\, 2025 12:
 00 PM\nOct 29\, 2025 12:00 PM\nNov 5\, 2025 12:00 PM\nDec 17\, 2025 12:00 
 PM
DTSTART;TZID=America/Denver:20251105T120000
DTEND;TZID=America/Denver:20251105T130000
LOCATION:https://communityactionpartnership.zoom.us/webinar/register/WN_Fva
 Ws88fRquJprixL5U1aQ#/registration
SUMMARY:NCAP - Building Stronger Systems\, Stronger Families: WFA Webinar S
 eries - Scaling WFA & Measuring What Matters
END:VEVENT
END:VCALENDAR
