BEGIN:VCALENDAR
VERSION:2.0
PRODID:-//caputah.org//NONSGML kigkonsult.se iCalcreator 2.30.10//
CALSCALE:GREGORIAN
METHOD:PUBLISH
UID:6a9e0d8a-4c67-43d3-b13a-7ee15f642106
X-WR-CALDESC:The Service Prioritization Decision Assistance Tool (SPDAT) is
  a tool designed to help communities prioritize service delivery for peopl
 e experiencing homelessness by assessing their needs and vulnerabilities t
 o determine the most appropriate housing interventions. It is used by many
  Local Homeless Councils (LHC's) in Utah to coordinate entry for services 
 and it used as an evidence-based case management tool to assess progress t
 owards client goals.\n\nCAP Utah\, in partnership with Ogden-Weber Communi
 ty Action Partnership\, will be hosting a training for Northern Utah provi
 ders and anyone else who would like to attend. There is a $7.50 charge to 
 help offset printing and lunch costs.\n\nJoin us for in person SPDAT train
 ing at OWCAP!
X-WR-RELCALID:abe577484f1e4128768c53311c6529e4
X-WR-TIMEZONE:America/Denver
BEGIN:VTIMEZONE
TZID:America/Denver
BEGIN:STANDARD
TZNAME:MST
DTSTART:20251102T020000
TZOFFSETFROM:-0600
TZOFFSETTO:-0700
RDATE:20261101T020000
END:STANDARD
BEGIN:DAYLIGHT
TZNAME:MDT
DTSTART:20250309T020000
TZOFFSETFROM:-0700
TZOFFSETTO:-0600
RDATE:20260308T020000
RDATE:20270314T020000
END:DAYLIGHT
END:VTIMEZONE
BEGIN:VEVENT
UID:c75150dc-92b3-43e0-ba0d-efd7d901c194
DTSTAMP:20260422T091739Z
DESCRIPTION:The Service Prioritization Decision Assistance Tool (SPDAT) is 
 a tool designed to help communities prioritize service delivery for people
  experiencing homelessness by assessing their needs and vulnerabilities to
  determine the most appropriate housing interventions. It is used by many 
 Local Homeless Councils (LHC's) in Utah to coordinate entry for services a
 nd it used as an evidence-based case management tool to assess progress to
 wards client goals.\n\nCAP Utah\, in partnership with Ogden-Weber Communit
 y Action Partnership\, will be hosting a training for Northern Utah provid
 ers and anyone else who would like to attend. There is a $7.50 charge to h
 elp offset printing and lunch costs.\n\nJoin us for in person SPDAT traini
 ng at OWCAP!
DTSTART;TZID=America/Denver:20251105T100000
DTEND;TZID=America/Denver:20251105T150000
LOCATION:OWCAP\, 3159 Grant Avenue\, Ogden\, UT 84401 US
SUMMARY:Northern Utah SPDAT Training - November 2025
END:VEVENT
END:VCALENDAR
