BEGIN:VCALENDAR
VERSION:2.0
PRODID:-//caputah.org//NONSGML kigkonsult.se iCalcreator 2.30.10//
CALSCALE:GREGORIAN
METHOD:PUBLISH
UID:3c373f92-65d5-44d9-90a4-930b7cd49313
X-WR-CALDESC:You know your leadership isn't for the faint of heart—you’re j
 uggling your team\, board\, and mission while navigating the daily pressur
 es of leadership. When everyone’s not on the same page\, it can feel like 
 you’re pushing a boulder uphill. Sound familiar?\n\nThe Nonprofit Credenti
 al in Leadership and Organizational Culture is here to help you turn those
  struggles into strategies. With tools for self-awareness\, alignment\, an
 d authentic connection\, you’ll learn how to build a culture where collabo
 ration thrives\, growth flourishes\, and your mission shines.\n\nWhat you'
 ll learn:\n\nDiscover leadership strategies that fit you like a glove.\nBu
 ild inclusivity\, support\, and shared purpose into your workflow.\nForge 
 equitable relationships that drive progress.\nAlign your operations with y
 our core values and vision.\nReflect your priorities in every document.\nP
 lus\, you’ll have an opportunity to network and build a relationship with 
 other nonprofit leaders.\n\nCost:\n\nUNA Member Rate: $180 for the first p
 erson/$40 for each additional participant\nNot-Yet-Member Rate: $360 for t
 he first person/$80 for each additional participant\n\nCourse Dates:\n\nSe
 ssions:\n\nDay 1: Tuesday\, November 4\, 2025 | 9:30 am to 3:30 pm\nDay 2:
  Wednesday\, November 5\, 2025 | 9:30 am to 3:30 pm\n\nOrganizational Cons
 ultation: 20-minute consult on Wednesday\, December 3 or Thursday\, Decemb
 er 4\, 2025
X-WR-RELCALID:0d441d9b5aac47f52e4fc0b94bfae1c3
X-WR-TIMEZONE:America/Denver
BEGIN:VTIMEZONE
TZID:America/Denver
BEGIN:STANDARD
TZNAME:MST
DTSTART:20251102T020000
TZOFFSETFROM:-0600
TZOFFSETTO:-0700
RDATE:20261101T020000
END:STANDARD
BEGIN:DAYLIGHT
TZNAME:MDT
DTSTART:20250309T020000
TZOFFSETFROM:-0700
TZOFFSETTO:-0600
RDATE:20260308T020000
RDATE:20270314T020000
END:DAYLIGHT
END:VTIMEZONE
BEGIN:VEVENT
UID:a81c5690-401d-42d9-b4d4-e5838fcfe29c
DTSTAMP:20260422T092535Z
DESCRIPTION:You know your leadership isn't for the faint of heart—you’re ju
 ggling your team\, board\, and mission while navigating the daily pressure
 s of leadership. When everyone’s not on the same page\, it can feel like y
 ou’re pushing a boulder uphill. Sound familiar?\n\nThe Nonprofit Credentia
 l in Leadership and Organizational Culture is here to help you turn those 
 struggles into strategies. With tools for self-awareness\, alignment\, and
  authentic connection\, you’ll learn how to build a culture where collabor
 ation thrives\, growth flourishes\, and your mission shines.\n\nWhat you'l
 l learn:\n\nDiscover leadership strategies that fit you like a glove.\nBui
 ld inclusivity\, support\, and shared purpose into your workflow.\nForge e
 quitable relationships that drive progress.\nAlign your operations with yo
 ur core values and vision.\nReflect your priorities in every document.\nPl
 us\, you’ll have an opportunity to network and build a relationship with o
 ther nonprofit leaders.\n\nCost:\n\nUNA Member Rate: $180 for the first pe
 rson/$40 for each additional participant\nNot-Yet-Member Rate: $360 for th
 e first person/$80 for each additional participant\n\nCourse Dates:\n\nSes
 sions:\n\nDay 1: Tuesday\, November 4\, 2025 | 9:30 am to 3:30 pm\nDay 2: 
 Wednesday\, November 5\, 2025 | 9:30 am to 3:30 pm\n\nOrganizational Consu
 ltation: 20-minute consult on Wednesday\, December 3 or Thursday\, Decembe
 r 4\, 2025
DTSTART;TZID=America/Denver:20251104T040000
DTEND;TZID=America/Denver:20251105T040001
LOCATION:https://members.utahnonprofits.org/una-event-calendar/Details/2025
 -nonprofit-credential-in-leadership-and-organizational-culture-1275801?sou
 rceTypeId=Website
SUMMARY:UNA - 2025 Nonprofit Credential in Leadership and Organizational Cu
 lture
END:VEVENT
END:VCALENDAR
