BEGIN:VCALENDAR
VERSION:2.0
PRODID:-//caputah.org//NONSGML kigkonsult.se iCalcreator 2.30.10//
CALSCALE:GREGORIAN
METHOD:PUBLISH
UID:270bc819-0c00-45da-874b-98505d8400e5
X-WR-CALDESC:Investigate practical tools and insights to enhance your organ
 ization’s capacity to secure grant funding. Using the reverse outline appl
 ication approach\, building a strong review team and analyzing past funded
  and non-funded applications\, you will identify key success factors and c
 ommon pitfalls.\n\nLearning objectives\n1. List the steps of a reverse out
 line process.\n\n2. Identify the qualities of key players of a strong revi
 ew team.\n\n3. Analyze past applications for what to do and not to do.\n\n
 Registration fee\n$145 per person\n\nMy Wipfli nonprofit and government me
 mbership service members automatically receive an additional $25 discount 
 per registrant.\n\nWipfli accepts AmEx\, Discover\, Visa and Mastercard.\n
 \nThe registration fee includes:\n\nUp to 1.5 continuing professional educ
 ation (CPE) credits in accordance with the standards of the National Regis
 try of CPE Sponsors. CPE credits are granted based on a 50-minute hour.
X-WR-RELCALID:99da13af2f77d32f329723ec5a15a6c0
X-WR-TIMEZONE:America/Denver
BEGIN:VTIMEZONE
TZID:America/Denver
BEGIN:STANDARD
TZNAME:MST
DTSTART:20251102T020000
TZOFFSETFROM:-0600
TZOFFSETTO:-0700
RDATE:20261101T020000
END:STANDARD
BEGIN:DAYLIGHT
TZNAME:MDT
DTSTART:20250309T020000
TZOFFSETFROM:-0700
TZOFFSETTO:-0600
RDATE:20260308T020000
RDATE:20270314T020000
END:DAYLIGHT
END:VTIMEZONE
BEGIN:VEVENT
UID:e32b8927-2d8f-4772-82a0-b1b69634ff73
DTSTAMP:20260422T091658Z
DESCRIPTION:Investigate practical tools and insights to enhance your organi
 zation’s capacity to secure grant funding. Using the reverse outline appli
 cation approach\, building a strong review team and analyzing past funded 
 and non-funded applications\, you will identify key success factors and co
 mmon pitfalls.\n\nLearning objectives\n1. List the steps of a reverse outl
 ine process.\n\n2. Identify the qualities of key players of a strong revie
 w team.\n\n3. Analyze past applications for what to do and not to do.\n\nR
 egistration fee\n$145 per person\n\nMy Wipfli nonprofit and government mem
 bership service members automatically receive an additional $25 discount p
 er registrant.\n\nWipfli accepts AmEx\, Discover\, Visa and Mastercard.\n
 \nThe registration fee includes:\n\nUp to 1.5 continuing professional educ
 ation (CPE) credits in accordance with the standards of the National Regis
 try of CPE Sponsors. CPE credits are granted based on a 50-minute hour.
DTSTART;TZID=America/Denver:20251105T123000
DTEND;TZID=America/Denver:20251105T140000
LOCATION:https://www.wipfli.com/events/nge-grant-writing-essentials
SUMMARY:WIPFLI - Grant writing essentials
END:VEVENT
END:VCALENDAR
