BEGIN:VCALENDAR
VERSION:2.0
PRODID:-//caputah.org//NONSGML kigkonsult.se iCalcreator 2.30.10//
CALSCALE:GREGORIAN
METHOD:PUBLISH
UID:5034662d-1a00-488f-9924-892bc8d99111
X-WR-CALDESC:While circumstances differ across states\, DOE data reveals th
 at multifamily buildings account for less than 10% of completed weatherize
 d units in most regions. Yet\, these projects hold immense potential—deliv
 ering notable benefits such as reducing average cost per unit\, increasing
  production\, and supporting operational sustainability. Despite ongoing e
 fforts to simplify the process\, many local Weatherization providers still
  encounter significant hurdles when undertaking multifamily projects.\n\nJ
 oin us for this six-part virtual training series designed to help you grow
  and enhance your multifamily weatherization portfolio\, boost cost effici
 ency\, and build strategic partnerships that strengthen both your program 
 and local impact. Each session will dive into essential topics\, including
  understanding operational considerations\, engaging organizational leader
 ship\, navigating program rules and guidance\, and leveraging economies of
  scale. Led by industry experts\, these 90-to-180-minute sessions offer pr
 actical insights\, interactive discussions\, and dedicated Q&A opportuniti
 es. See below for individual session titles:\n\n1.	Organizational Needs and
  Considerations\n2.	Federal & State Landscape Considerations\, Rules\, Regu
 lations\, Guidance\n3.	Scaling Internal Operations\n4.	Let’s Begin the Proce
 ss \n5.	Planning & Launching Your First Project\n6.	Closing Out Your First P
 roject \n\nDate & Time\nYou can choose to attend one or more of the follow
 ing webinars.\n\nJuly 17\, 2025    12:00PM\nAug 14\, 2025    12:00PM\nSep 
 18\, 2025    12:00PM\nOct 16\, 2025     12:00PM\nNov 6\, 2025      12:00PM
X-WR-RELCALID:0e9e92cbe30b58535629ba3d21e3876f
X-WR-TIMEZONE:America/Denver
BEGIN:VTIMEZONE
TZID:America/Denver
BEGIN:STANDARD
TZNAME:MST
DTSTART:20251102T020000
TZOFFSETFROM:-0600
TZOFFSETTO:-0700
RDATE:20261101T020000
END:STANDARD
BEGIN:DAYLIGHT
TZNAME:MDT
DTSTART:20250309T020000
TZOFFSETFROM:-0700
TZOFFSETTO:-0600
RDATE:20260308T020000
RDATE:20270314T020000
END:DAYLIGHT
END:VTIMEZONE
BEGIN:VEVENT
UID:3e305559-1e87-4f68-a023-35d24bcc0da9
DTSTAMP:20260422T091745Z
DESCRIPTION:While circumstances differ across states\, DOE data reveals tha
 t multifamily buildings account for less than 10% of completed weatherized
  units in most regions. Yet\, these projects hold immense potential—delive
 ring notable benefits such as reducing average cost per unit\, increasing 
 production\, and supporting operational sustainability. Despite ongoing ef
 forts to simplify the process\, many local Weatherization providers still 
 encounter significant hurdles when undertaking multifamily projects.\n\nJo
 in us for this six-part virtual training series designed to help you grow 
 and enhance your multifamily weatherization portfolio\, boost cost efficie
 ncy\, and build strategic partnerships that strengthen both your program a
 nd local impact. Each session will dive into essential topics\, including 
 understanding operational considerations\, engaging organizational leaders
 hip\, navigating program rules and guidance\, and leveraging economies of 
 scale. Led by industry experts\, these 90-to-180-minute sessions offer pra
 ctical insights\, interactive discussions\, and dedicated Q&A opportunitie
 s. See below for individual session titles:\n\n1.	Organizational Needs and 
 Considerations\n2.	Federal & State Landscape Considerations\, Rules\, Regul
 ations\, Guidance\n3.	Scaling Internal Operations\n4.	Let’s Begin the Proces
 s \n5.	Planning & Launching Your First Project\n6.	Closing Out Your First Pr
 oject \n\nDate & Time\nYou can choose to attend one or more of the followi
 ng webinars.\n\nJuly 17\, 2025    12:00PM\nAug 14\, 2025    12:00PM\nSep 1
 8\, 2025    12:00PM\nOct 16\, 2025     12:00PM\nNov 6\, 2025      12:00PM
DTSTART;TZID=America/Denver:20251106T120000
DTEND;TZID=America/Denver:20251106T130000
LOCATION:https://communityactionpartnership.zoom.us/webinar/register/WN_hnS
 IaETlRTS_e4Lqhx2mrw#/registration
SUMMARY:NCAP - Multifamily Weatherization Virtual Training Series: Closing 
 Out Your First Project
END:VEVENT
END:VCALENDAR
