BEGIN:VCALENDAR
VERSION:2.0
PRODID:-//caputah.org//NONSGML kigkonsult.se iCalcreator 2.30.10//
CALSCALE:GREGORIAN
METHOD:PUBLISH
UID:5fe351f0-13b4-4fec-9cd7-5b1718d6c1cd
X-WR-CALDESC:Registration open for all EDs and CEOs\n\nJoin NCAP for a cont
 inuation of the Roundtable series for current Community Action Executive D
 irectors and CEOs. The Roundtables are designed to provide space for an en
 gaging session where EDs and CEOs will have the opportunity to participate
  in confidential small group discussions with peers.\n\nThese Roundtables 
 are an opportunity to discuss emerging issues\, get updates on available t
 ools and resources\, and learn effective strategies from your peers. EDs a
 nd CEOs may sign up for one or more roundtable sessions.\n\nRegister now t
 o attend the Roundtable in November!
X-WR-RELCALID:51514a96664ea2a15f09080fd77bc790
X-WR-TIMEZONE:America/Denver
BEGIN:VTIMEZONE
TZID:America/Denver
BEGIN:STANDARD
TZNAME:MST
DTSTART:20251102T020000
TZOFFSETFROM:-0600
TZOFFSETTO:-0700
RDATE:20261101T020000
END:STANDARD
BEGIN:DAYLIGHT
TZNAME:MDT
DTSTART:20250309T020000
TZOFFSETFROM:-0700
TZOFFSETTO:-0600
RDATE:20260308T020000
RDATE:20270314T020000
END:DAYLIGHT
END:VTIMEZONE
BEGIN:VEVENT
UID:5241d2da-80d5-4089-9a3b-5889d4c0d656
DTSTAMP:20260422T092505Z
DESCRIPTION:Registration open for all EDs and CEOs\n\nJoin NCAP for a conti
 nuation of the Roundtable series for current Community Action Executive Di
 rectors and CEOs. The Roundtables are designed to provide space for an eng
 aging session where EDs and CEOs will have the opportunity to participate 
 in confidential small group discussions with peers.\n\nThese Roundtables a
 re an opportunity to discuss emerging issues\, get updates on available to
 ols and resources\, and learn effective strategies from your peers. EDs an
 d CEOs may sign up for one or more roundtable sessions.\n\nRegister now to
  attend the Roundtable in November!
DTSTART;TZID=America/Denver:20251106T100000
DTEND;TZID=America/Denver:20251106T150000
LOCATION:https://ncap.users.membersuite.com/events/9a6db3bd-0078-cb7f-b8d7-
 0b48da76d664/details
SUMMARY:NCAP - November 2025 ED/CEO Roundtables - Responding to the Shiftin
 g Landscape - 11/6/25
END:VEVENT
END:VCALENDAR
