BEGIN:VCALENDAR
VERSION:2.0
PRODID:-//caputah.org//NONSGML kigkonsult.se iCalcreator 2.30.10//
CALSCALE:GREGORIAN
METHOD:PUBLISH
UID:0920f63c-b234-46e8-bcb9-c83d6e0494da
X-WR-CALDESC:Are you finding it hard to generate in-kind?\nIs answering the
  question\, “Is this in-kind?” your responsibility?\nDoes generating in-ki
 nd fall on your shoulders?\nOr do you not even know what this “in-kind” th
 ing is?\nThis training is for you.\n\nFirst\, we will discuss the tools\, 
 techniques and regulations of planning\, generating\, calculating and docu
 menting non-federal match.\n\nOnce you have heard the compliance side of i
 n-kind\, we will help you determine the plan: who to ask\, how to ask and 
 what to ask. Leave with specific goals\, strategies and tasks to bring mor
 e in-kind into your agency.\n\nLearning objectives\nExplore the basics of 
 in-kind\, including the different types of in-kind and tips on how to gene
 rate more in-kind.\nReview the specifics of in-kind requirements and the c
 ommon pitfalls to avoid.\nDiscover who in your community to ask for in-kin
 d.\nRegistration fee\n$300 per person\n\nMy Wipfli nonprofit and governmen
 t membership service members automatically receive an additional $25 disco
 unt per registrantAre you finding it hard to generate in-kind?\nIs answeri
 ng the question\, “Is this in-kind?” your responsibility?\nDoes generating
  in-kind fall on your shoulders?\nOr do you not even know what this “in-ki
 nd” thing is?\nThis training is for you.\n\nFirst\, we will discuss the to
 ols\, techniques and regulations of planning\, generating\, calculating an
 d documenting non-federal match.\n\nOnce you have heard the compliance sid
 e of in-kind\, we will help you determine the plan: who to ask\, how to as
 k and what to ask. Leave with specific goals\, strategies and tasks to bri
 ng more in-kind into your agency.\n\nLearning objectives\nExplore the basi
 cs of in-kind\, including the different types of in-kind and tips on how t
 o generate more in-kind.\nReview the specifics of in-kind requirements and
  the common pitfalls to avoid.\nDiscover who in your community to ask for 
 in-kind.\nRegistration fee\n$300 per person\n\nMy Wipfli nonprofit and gov
 ernment membership service members automatically receive an additional $25
  discount per registrant.\n\n
X-WR-RELCALID:68f607265d5cfe83d215f2cf92398618
X-WR-TIMEZONE:America/Denver
BEGIN:VTIMEZONE
TZID:America/Denver
BEGIN:STANDARD
TZNAME:MST
DTSTART:20251102T020000
TZOFFSETFROM:-0600
TZOFFSETTO:-0700
RDATE:20261101T020000
END:STANDARD
BEGIN:DAYLIGHT
TZNAME:MDT
DTSTART:20250309T020000
TZOFFSETFROM:-0700
TZOFFSETTO:-0600
RDATE:20260308T020000
RDATE:20270314T020000
END:DAYLIGHT
END:VTIMEZONE
BEGIN:VEVENT
UID:9c06e59f-79ed-401b-9fd5-32fc2d04a5b8
DTSTAMP:20260422T092114Z
DESCRIPTION:Are you finding it hard to generate in-kind?\nIs answering the 
 question\, “Is this in-kind?” your responsibility?\nDoes generating in-kin
 d fall on your shoulders?\nOr do you not even know what this “in-kind” thi
 ng is?\nThis training is for you.\n\nFirst\, we will discuss the tools\, t
 echniques and regulations of planning\, generating\, calculating and docum
 enting non-federal match.\n\nOnce you have heard the compliance side of in
 -kind\, we will help you determine the plan: who to ask\, how to ask and w
 hat to ask. Leave with specific goals\, strategies and tasks to bring more
  in-kind into your agency.\n\nLearning objectives\nExplore the basics of i
 n-kind\, including the different types of in-kind and tips on how to gener
 ate more in-kind.\nReview the specifics of in-kind requirements and the co
 mmon pitfalls to avoid.\nDiscover who in your community to ask for in-kind
 .\nRegistration fee\n$300 per person\n\nMy Wipfli nonprofit and government
  membership service members automatically receive an additional $25 discou
 nt per registrantAre you finding it hard to generate in-kind?\nIs answerin
 g the question\, “Is this in-kind?” your responsibility?\nDoes generating 
 in-kind fall on your shoulders?\nOr do you not even know what this “in-kin
 d” thing is?\nThis training is for you.\n\nFirst\, we will discuss the too
 ls\, techniques and regulations of planning\, generating\, calculating and
  documenting non-federal match.\n\nOnce you have heard the compliance side
  of in-kind\, we will help you determine the plan: who to ask\, how to ask
  and what to ask. Leave with specific goals\, strategies and tasks to brin
 g more in-kind into your agency.\n\nLearning objectives\nExplore the basic
 s of in-kind\, including the different types of in-kind and tips on how to
  generate more in-kind.\nReview the specifics of in-kind requirements and 
 the common pitfalls to avoid.\nDiscover who in your community to ask for i
 n-kind.\nRegistration fee\n$300 per person\n\nMy Wipfli nonprofit and gove
 rnment membership service members automatically receive an additional $25 
 discount per registrant.\n\n
DTSTART;TZID=America/Denver:20251106T093000
DTEND;TZID=America/Denver:20251106T113000
LOCATION:https://www.wipfli.com/events/nge-in-kind-regulations-and-making-y
 our-plan
SUMMARY:WIPFLI - In-Kind regulations and making your plan
END:VEVENT
END:VCALENDAR
