BEGIN:VCALENDAR
VERSION:2.0
PRODID:-//caputah.org//NONSGML kigkonsult.se iCalcreator 2.30.10//
CALSCALE:GREGORIAN
METHOD:PUBLISH
UID:877af435-728e-441b-980a-07d3705acad5
X-WR-CALDESC:INTENDED AUDIENCE: State Offices of Rural Health (SORH) & Rura
 l Stakeholders/Partners \n\nDESCRIPTION: Accessing health care\, work\, an
 d essential services shouldn’t be a struggle\, yet transportation remains 
 a major barrier for many rural communities. The Coordinating Council on Ac
 cess and Mobility Technical Assistance Center (CCAM TAC) is changing that 
 by helping communities create lasting\, local solutions that make transpor
 tation more accessible for everyone.\n  \nJoin us for an engaging webinar 
 to explore how CCAM TAC connects the dots between transportation\, health\
 , and human services – and how these partnerships can strengthen your comm
 unity.\n  \nYou’ll discover how the CCAM TAC team can support your work th
 rough: \n\nOn-site technical assistance tailored to your community’s uniqu
 e needs \nFederal fund braiding workshops that help stretch limited resour
 ces \nFacilitated workshops and planning sessions that bring partners toge
 ther to turn ideas into action\nWhether you work in rural health\, higher 
 education\, or community services\, this session will leave you with pract
 ical tools\, examples\, and ideas for improving access in your region.
X-WR-RELCALID:c854fe63ce5dce42a4319705bdfb650c
X-WR-TIMEZONE:America/Denver
BEGIN:VTIMEZONE
TZID:America/Denver
BEGIN:STANDARD
TZNAME:MST
DTSTART:20251102T020000
TZOFFSETFROM:-0600
TZOFFSETTO:-0700
RDATE:20261101T020000
END:STANDARD
BEGIN:DAYLIGHT
TZNAME:MDT
DTSTART:20250309T020000
TZOFFSETFROM:-0700
TZOFFSETTO:-0600
RDATE:20260308T020000
RDATE:20270314T020000
END:DAYLIGHT
END:VTIMEZONE
BEGIN:VEVENT
UID:9dfa63ad-3c91-4608-bb5c-c5ab6e33da69
DTSTAMP:20260422T092156Z
DESCRIPTION:INTENDED AUDIENCE: State Offices of Rural Health (SORH) & Rural
  Stakeholders/Partners \n\nDESCRIPTION: Accessing health care\, work\, and
  essential services shouldn’t be a struggle\, yet transportation remains a
  major barrier for many rural communities. The Coordinating Council on Acc
 ess and Mobility Technical Assistance Center (CCAM TAC) is changing that b
 y helping communities create lasting\, local solutions that make transport
 ation more accessible for everyone.\n  \nJoin us for an engaging webinar t
 o explore how CCAM TAC connects the dots between transportation\, health\,
  and human services – and how these partnerships can strengthen your commu
 nity.\n  \nYou’ll discover how the CCAM TAC team can support your work thr
 ough: \n\nOn-site technical assistance tailored to your community’s unique
  needs \nFederal fund braiding workshops that help stretch limited resourc
 es \nFacilitated workshops and planning sessions that bring partners toget
 her to turn ideas into action\nWhether you work in rural health\, higher e
 ducation\, or community services\, this session will leave you with practi
 cal tools\, examples\, and ideas for improving access in your region.
DTSTART;TZID=America/Denver:20251112T130000
DTEND;TZID=America/Denver:20251112T140000
LOCATION:https://nosorh.org/event/ccam-breaking-barriers/
SUMMARY:NCAP - CCAM TAC: Breaking Down Barriers to Access in Rural Communit
 ies
END:VEVENT
END:VCALENDAR
