BEGIN:VCALENDAR
VERSION:2.0
PRODID:-//caputah.org//NONSGML kigkonsult.se iCalcreator 2.30.10//
CALSCALE:GREGORIAN
METHOD:PUBLISH
UID:1400d960-54fa-4381-b407-52967eced6ea
X-WR-CALDESC:Sometimes\, people target nonprofit team members for their wor
 k in the community. Learn online harassment prevention measures for nonpro
 fits and how to respond if harassment does happen.
X-WR-RELCALID:2d343719f8e8868bb8af5c7fbfda3a0d
X-WR-TIMEZONE:America/Denver
BEGIN:VTIMEZONE
TZID:America/Denver
BEGIN:STANDARD
TZNAME:MST
DTSTART:20251102T020000
TZOFFSETFROM:-0600
TZOFFSETTO:-0700
RDATE:20261101T020000
END:STANDARD
BEGIN:DAYLIGHT
TZNAME:MDT
DTSTART:20250309T020000
TZOFFSETFROM:-0700
TZOFFSETTO:-0600
RDATE:20260308T020000
RDATE:20270314T020000
END:DAYLIGHT
END:VTIMEZONE
BEGIN:VEVENT
UID:27af9cce-4ec6-4dee-b673-cee836f61d50
DTSTAMP:20260422T091739Z
DESCRIPTION:Sometimes\, people target nonprofit team members for their work
  in the community. Learn online harassment prevention measures for nonprof
 its and how to respond if harassment does happen.
DTSTART;TZID=America/Denver:20251112T120000
DTEND;TZID=America/Denver:20251112T130000
LOCATION:https://us02web.zoom.us/webinar/register/WN_x5vssYDNSvOQQDHqxMG0uA
 #/registration
SUMMARY:NRMC - Online Harassment Prevention and Response
END:VEVENT
END:VCALENDAR
