BEGIN:VCALENDAR
VERSION:2.0
PRODID:-//caputah.org//NONSGML kigkonsult.se iCalcreator 2.30.10//
CALSCALE:GREGORIAN
METHOD:PUBLISH
UID:56b6137e-72f1-4354-9435-e85a508d4ba6
X-WR-CALDESC:Do you love the feeling of finding money that you didn't know 
 was there? Of course! Nonprofits all across Utah have been leaving money i
 n the proverbial couch cushions\, let GiveFront show you how to find it. 
 \n\nNonprofits in Utah are eligible for sales tax refunds on most purchase
 s — but the process is often overlooked or too time-consuming. In this ses
 sion\, we’ll show how Givefront automates receipt collection\, enforces ex
 pense policies\, and integrates sales tax refund tracking directly into yo
 ur financial workflow. Join us for a hands-on demo of the platform and see
  how your organization can save money\, strengthen compliance\, and reduce
  administrative headaches. \n\nWho Should Attend? \nAnyone interested in l
 earning more about sales tax refunds for your nonprofit\n\nCost:\nFree for
  members (members only demo)
X-WR-RELCALID:1cb55d15cbde96a6f4365473b72f1c17
X-WR-TIMEZONE:America/Denver
BEGIN:VTIMEZONE
TZID:America/Denver
BEGIN:STANDARD
TZNAME:MST
DTSTART:20251102T020000
TZOFFSETFROM:-0600
TZOFFSETTO:-0700
RDATE:20261101T020000
END:STANDARD
BEGIN:DAYLIGHT
TZNAME:MDT
DTSTART:20250309T020000
TZOFFSETFROM:-0700
TZOFFSETTO:-0600
RDATE:20260308T020000
RDATE:20270314T020000
END:DAYLIGHT
END:VTIMEZONE
BEGIN:VEVENT
UID:9536e398-ed66-4bbf-abd6-544c546c4751
DTSTAMP:20260422T092632Z
DESCRIPTION:Do you love the feeling of finding money that you didn't know w
 as there? Of course! Nonprofits all across Utah have been leaving money in
  the proverbial couch cushions\, let GiveFront show you how to find it. \n
 \nNonprofits in Utah are eligible for sales tax refunds on most purchases 
 — but the process is often overlooked or too time-consuming. In this sessi
 on\, we’ll show how Givefront automates receipt collection\, enforces expe
 nse policies\, and integrates sales tax refund tracking directly into your
  financial workflow. Join us for a hands-on demo of the platform and see h
 ow your organization can save money\, strengthen compliance\, and reduce a
 dministrative headaches. \n\nWho Should Attend? \nAnyone interested in lea
 rning more about sales tax refunds for your nonprofit\n\nCost:\nFree for m
 embers (members only demo)
DTSTART;TZID=America/Denver:20251113T100000
DTEND;TZID=America/Denver:20251113T110000
LOCATION:https://members.utahnonprofits.org/una-event-calendar/Details/utah
 -sales-tax-and-financial-management-for-nonprofits-1467517?sourceTypeId=We
 bsitehttps://members.utahnonprofits.org/una-event-calendar/Details/utah-sa
 les-tax-and-financial-management-for-nonp
SUMMARY:UNA - Utah Sales Tax and Financial Management for Nonprofits
END:VEVENT
END:VCALENDAR
