BEGIN:VCALENDAR
VERSION:2.0
PRODID:-//caputah.org//NONSGML kigkonsult.se iCalcreator 2.30.10//
CALSCALE:GREGORIAN
METHOD:PUBLISH
UID:d8f9a7bc-079f-48f0-8b90-69c18d35d921
X-WR-CALDESC:Community Action Programs are a changing force in their commun
 ities. And to receive all that federal funding\, you need to follow a set 
 of standards that ensures funding sources that you can serve the community
  while staying in compliance and being transparent. It takes a lot of work
 \, coordination — and know-how — including a culture of collaboration\, ac
 countability and collective problem-solving. And we want to help you.\n\nJ
 oin us for this power-packed overview to explore the Community Services Bl
 ock Grant (CSBG) standards. We’ll discuss how to use the framework to esta
 blish\, measure and communicate outcomes that matter to your community. To
 gether\, we’ll review some of the regulations that you need to know to sta
 y in compliance through examples\, stories and best practices. Take back u
 p-to-date and relevant information to implement immediately in your agency
 .\n\nProfessionals on your leadership and governance teams (as well as tho
 se delivering services to the community) will benefit from this review\, a
 s well as those who partner with\, receive funding from or deliver similar
  services.\n\nLearning objectives\nExplore the way that you approach the o
 rganizational standards.\nIdentify what is working well to meet the standa
 rds\nReview where you have opportunities for improvement.\nRegistration fe
 e\n$575 per person\n\nMy Wipfli nonprofit and government membership servic
 e members automatically receive an additional $25 discount per registrant.
 \n\nThe registration fee includes:\n\nUp to 4 continuing professional educ
 ation (CPE) credits in accordance with the standards of the National Regis
 try of CPE Sponsors. CPE credits are granted based on a 50-minute hour.\nA
  training workbook.\nReference materials (any PowerPoint presentations and
 /or additional references) available for download.
X-WR-RELCALID:6d3b7c7a980e19065bb3cf4cd82d7929
X-WR-TIMEZONE:America/Denver
BEGIN:VTIMEZONE
TZID:America/Denver
BEGIN:STANDARD
TZNAME:MST
DTSTART:20251102T020000
TZOFFSETFROM:-0600
TZOFFSETTO:-0700
RDATE:20261101T020000
END:STANDARD
BEGIN:DAYLIGHT
TZNAME:MDT
DTSTART:20250309T020000
TZOFFSETFROM:-0700
TZOFFSETTO:-0600
RDATE:20260308T020000
RDATE:20270314T020000
END:DAYLIGHT
END:VTIMEZONE
BEGIN:VEVENT
UID:b6cb42fb-37a3-4ffe-a6d1-635427f6767b
DTSTAMP:20260422T091821Z
DESCRIPTION:Community Action Programs are a changing force in their communi
 ties. And to receive all that federal funding\, you need to follow a set o
 f standards that ensures funding sources that you can serve the community 
 while staying in compliance and being transparent. It takes a lot of work\
 , coordination — and know-how — including a culture of collaboration\, acc
 ountability and collective problem-solving. And we want to help you.\n\nJo
 in us for this power-packed overview to explore the Community Services Blo
 ck Grant (CSBG) standards. We’ll discuss how to use the framework to estab
 lish\, measure and communicate outcomes that matter to your community. Tog
 ether\, we’ll review some of the regulations that you need to know to stay
  in compliance through examples\, stories and best practices. Take back up
 -to-date and relevant information to implement immediately in your agency.
 \n\nProfessionals on your leadership and governance teams (as well as thos
 e delivering services to the community) will benefit from this review\, as
  well as those who partner with\, receive funding from or deliver similar 
 services.\n\nLearning objectives\nExplore the way that you approach the or
 ganizational standards.\nIdentify what is working well to meet the standar
 ds\nReview where you have opportunities for improvement.\nRegistration fee
 \n$575 per person\n\nMy Wipfli nonprofit and government membership service
  members automatically receive an additional $25 discount per registrant.
 \n\nThe registration fee includes:\n\nUp to 4 continuing professional educ
 ation (CPE) credits in accordance with the standards of the National Regis
 try of CPE Sponsors. CPE credits are granted based on a 50-minute hour.\nA
  training workbook.\nReference materials (any PowerPoint presentations and
 /or additional references) available for download.
DTSTART;TZID=America/Denver:20251113T090000
DTEND;TZID=America/Denver:20251113T140000
LOCATION:https://www.wipfli.com/events/nge-csbg-organizational-standards-bo
 ot-camp-november
SUMMARY:WIPFLI - CSBG organizational standards boot camp
END:VEVENT
END:VCALENDAR
