BEGIN:VCALENDAR
VERSION:2.0
PRODID:-//caputah.org//NONSGML kigkonsult.se iCalcreator 2.30.10//
CALSCALE:GREGORIAN
METHOD:PUBLISH
UID:45527e74-9c38-435a-8607-f05ed18a4ae0
X-WR-CALDESC:While federal support for solar development has changed\, stat
 e policies and private developer priorities often have a much greater infl
 uence on the opportunities available in your area. During this webinar\, l
 earn about the benefits available for both your agency and your clients. O
 ur speakers will describe several different models CAPs can replicate in t
 heir areas. Additionally\, hear about the changes in state and federal pol
 icies regarding solar and what this means for your current and potential p
 rojects. Learn how to stay the course as we navigate the evolving world of
  solar as a Network.
X-WR-RELCALID:299fff0368eddf0cb8010f56faaf7463
X-WR-TIMEZONE:America/Denver
BEGIN:VTIMEZONE
TZID:America/Denver
BEGIN:STANDARD
TZNAME:MST
DTSTART:20251102T020000
TZOFFSETFROM:-0600
TZOFFSETTO:-0700
RDATE:20261101T020000
END:STANDARD
BEGIN:DAYLIGHT
TZNAME:MDT
DTSTART:20250309T020000
TZOFFSETFROM:-0700
TZOFFSETTO:-0600
RDATE:20260308T020000
RDATE:20270314T020000
END:DAYLIGHT
END:VTIMEZONE
BEGIN:VEVENT
UID:37225224-27d3-47a7-bec7-4b43bfa6db0f
DTSTAMP:20260422T092022Z
DESCRIPTION:While federal support for solar development has changed\, state
  policies and private developer priorities often have a much greater influ
 ence on the opportunities available in your area. During this webinar\, le
 arn about the benefits available for both your agency and your clients. Ou
 r speakers will describe several different models CAPs can replicate in th
 eir areas. Additionally\, hear about the changes in state and federal poli
 cies regarding solar and what this means for your current and potential pr
 ojects. Learn how to stay the course as we navigate the evolving world of 
 solar as a Network.
DTSTART;TZID=America/Denver:20251117T120000
DTEND;TZID=America/Denver:20251117T130000
LOCATION:https://communityactionpartnership.zoom.us/webinar/register/WN_iCu
 WO2ZcTLy4mrOR4O_RCw#/registration
SUMMARY:NCAP - Solar for CAPs 201: Navigating the Changing Solar Landscape
END:VEVENT
END:VCALENDAR
