BEGIN:VCALENDAR
VERSION:2.0
PRODID:-//caputah.org//NONSGML kigkonsult.se iCalcreator 2.30.10//
CALSCALE:GREGORIAN
METHOD:PUBLISH
UID:15c4755c-bf4d-4067-9118-1328527fb51b
X-WR-CALDESC:Join us for WAP Workforce Technical Assistance Drop-In Office 
 Hours! These sessions will take place on the third Wednesday of each month
 .\n\nThis is an open\, supportive space where WAP agency staff can ask que
 stions\, get advice\, find resources\, and connect with peers. Hosted by s
 taff and subject matter experts from IREC\, NASCSP\, and NCAP\, these sess
 ions are designed for agency staff working in weatherization\, including H
 R\, communications\, marketing\, community engagement\, outreach\, recruit
 ment\, or program management.\n\nWhether you’re looking for support with j
 ob descriptions\, hiring\, retention\, raising awareness\, storytelling st
 rategies\, or guidance on community outreach and recruitment\, this is the
  place to be. You’ll also have the chance to help shape the development of
  new tools\, templates\, and resources based on your real-world agency nee
 ds. Drop by to learn\, share\, and make the most of these valuable workfor
 ce development sessions!
X-WR-RELCALID:ced1d4a79e52390f185290ab2c9e1aa3
X-WR-TIMEZONE:America/Denver
BEGIN:VTIMEZONE
TZID:America/Denver
BEGIN:STANDARD
TZNAME:MST
DTSTART:20251102T020000
TZOFFSETFROM:-0600
TZOFFSETTO:-0700
RDATE:20261101T020000
END:STANDARD
BEGIN:DAYLIGHT
TZNAME:MDT
DTSTART:20250309T020000
TZOFFSETFROM:-0700
TZOFFSETTO:-0600
RDATE:20260308T020000
RDATE:20270314T020000
END:DAYLIGHT
END:VTIMEZONE
BEGIN:VEVENT
UID:674b62db-f94a-4f75-b2ff-ad3b78dd0ffb
DTSTAMP:20260422T091908Z
DESCRIPTION:Join us for WAP Workforce Technical Assistance Drop-In Office H
 ours! These sessions will take place on the third Wednesday of each month.
 \n\nThis is an open\, supportive space where WAP agency staff can ask ques
 tions\, get advice\, find resources\, and connect with peers. Hosted by st
 aff and subject matter experts from IREC\, NASCSP\, and NCAP\, these sessi
 ons are designed for agency staff working in weatherization\, including HR
 \, communications\, marketing\, community engagement\, outreach\, recruitm
 ent\, or program management.\n\nWhether you’re looking for support with jo
 b descriptions\, hiring\, retention\, raising awareness\, storytelling str
 ategies\, or guidance on community outreach and recruitment\, this is the 
 place to be. You’ll also have the chance to help shape the development of 
 new tools\, templates\, and resources based on your real-world agency need
 s. Drop by to learn\, share\, and make the most of these valuable workforc
 e development sessions!
DTSTART;TZID=America/Denver:20251119T120000
DTEND;TZID=America/Denver:20251119T130000
LOCATION:https://irecusa.zoom.us/meeting/register/tZEvf-uppjkjG9W4fXtmzeiMp
 4WVLU00gjzA#/registration
SUMMARY:NCAP - WAP Workforce Technical Assistance Drop-In Office Hours
END:VEVENT
END:VCALENDAR
