BEGIN:VCALENDAR
VERSION:2.0
PRODID:-//caputah.org//NONSGML kigkonsult.se iCalcreator 2.30.10//
CALSCALE:GREGORIAN
METHOD:PUBLISH
UID:aa8a6713-01c3-406a-b926-b0122ccdba32
X-WR-CALDESC:In this peer-led session\, participants will hear how Communit
 y Action Agencies from across the country are using the Community Action S
 tandards of Excellence to navigate challenges and keep their work moving f
 orward. Leaders will share how operating at their best helps teams make co
 nfident decisions\, strengthen operations\, and sustain impact. The sessio
 n shows how excellence isn’t extra—it’s a way to build resilience and deli
 ver on your mission\, even in the most demanding moments.
X-WR-RELCALID:12681561d8aa29fe040e3beb65cfcccc
X-WR-TIMEZONE:America/Denver
BEGIN:VTIMEZONE
TZID:America/Denver
BEGIN:STANDARD
TZNAME:MST
DTSTART:20251102T020000
TZOFFSETFROM:-0600
TZOFFSETTO:-0700
RDATE:20261101T020000
END:STANDARD
BEGIN:DAYLIGHT
TZNAME:MDT
DTSTART:20250309T020000
TZOFFSETFROM:-0700
TZOFFSETTO:-0600
RDATE:20260308T020000
RDATE:20270314T020000
END:DAYLIGHT
END:VTIMEZONE
BEGIN:VEVENT
UID:421b0440-7ff4-4b2d-a799-edac33ba7348
DTSTAMP:20260422T073121Z
DESCRIPTION:In this peer-led session\, participants will hear how Community
  Action Agencies from across the country are using the Community Action St
 andards of Excellence to navigate challenges and keep their work moving fo
 rward. Leaders will share how operating at their best helps teams make con
 fident decisions\, strengthen operations\, and sustain impact. The session
  shows how excellence isn’t extra—it’s a way to build resilience and deliv
 er on your mission\, even in the most demanding moments.
DTSTART;TZID=America/Denver:20251202T120000
DTEND;TZID=America/Denver:20251202T130000
LOCATION:https://communityactionpartnership.zoom.us/meeting/register/EDyQMZ
 E7R-a-cexFadn1qg#/registration
SUMMARY:NCAP - The Impact of Excellence
END:VEVENT
END:VCALENDAR
