BEGIN:VCALENDAR
VERSION:2.0
PRODID:-//caputah.org//NONSGML kigkonsult.se iCalcreator 2.30.10//
CALSCALE:GREGORIAN
METHOD:PUBLISH
UID:f2de3840-f861-47c5-a086-79f8a66537d2
X-WR-CALDESC:Mr. Gordon-Levitt\, an Emmy-winning and Golden Globe-nominated
  American actor\, filmmaker\, and entrepreneur\, is confirmed to speak on 
 December 2.  Known for his roles in films such as Inception and 500 Days o
 f Summer\, Mr. Gordon-Levitt is also the founder of HITRECORD\, an open on
 line community dedicated to creative collaboration.\nHis involvement stron
 gly aligns with our theme\, 'Utah's Pro-Human Leadership in the Age of AI\
 ,' as he is a vocal advocate for ensuring that AI development adheres to b
 asic safety standards\, particularly those concerning children.\nThe Summi
 t\, on December 2\, 2025\, at the Salt Palace Convention Center is designe
 d to elevate Utah’s role in the AI landscape—showing how AI can be harness
 ed to serve people\, empower workers\, strengthen communities\, and drive 
 responsible\, innovation.\nDon't miss the opportunity to hear from Mr. Gor
 don-Levitt alongside our other featured speakers\, including Utah Governor
  Spencer Cox\,  Matthew Prince (CEO of Cloudflare)\, and Chris A. Malachow
 sky (Co-Founder of NVIDIA). This exciting addition ensures a diverse range
  of perspectives\, generating actionable insights for all attendees—includ
 ing policymakers\, technology firms\, and industry leaders.\nSecure your s
 pot now! Attend the 2025 Utah AI Summit to gain valuable insights and conn
 ections that will help you navigate the challenges and opportunities of ar
 tificial intelligence responsibly.
X-WR-RELCALID:100f1aa3a06fab184dd2db949347c544
X-WR-TIMEZONE:America/Denver
BEGIN:VTIMEZONE
TZID:America/Denver
BEGIN:STANDARD
TZNAME:MST
DTSTART:20251102T020000
TZOFFSETFROM:-0600
TZOFFSETTO:-0700
RDATE:20261101T020000
END:STANDARD
BEGIN:DAYLIGHT
TZNAME:MDT
DTSTART:20250309T020000
TZOFFSETFROM:-0700
TZOFFSETTO:-0600
RDATE:20260308T020000
RDATE:20270314T020000
END:DAYLIGHT
END:VTIMEZONE
BEGIN:VEVENT
UID:d43d11d6-3b29-46c6-9e6b-2ffc6eec1313
DTSTAMP:20260422T072814Z
DESCRIPTION:Mr. Gordon-Levitt\, an Emmy-winning and Golden Globe-nominated 
 American actor\, filmmaker\, and entrepreneur\, is confirmed to speak on D
 ecember 2.  Known for his roles in films such as Inception and 500 Days of
  Summer\, Mr. Gordon-Levitt is also the founder of HITRECORD\, an open onl
 ine community dedicated to creative collaboration.\nHis involvement strong
 ly aligns with our theme\, 'Utah's Pro-Human Leadership in the Age of AI\,
 ' as he is a vocal advocate for ensuring that AI development adheres to ba
 sic safety standards\, particularly those concerning children.\nThe Summit
 \, on December 2\, 2025\, at the Salt Palace Convention Center is designed
  to elevate Utah’s role in the AI landscape—showing how AI can be harnesse
 d to serve people\, empower workers\, strengthen communities\, and drive r
 esponsible\, innovation.\nDon't miss the opportunity to hear from Mr. Gord
 on-Levitt alongside our other featured speakers\, including Utah Governor 
 Spencer Cox\,  Matthew Prince (CEO of Cloudflare)\, and Chris A. Malachows
 ky (Co-Founder of NVIDIA). This exciting addition ensures a diverse range 
 of perspectives\, generating actionable insights for all attendees—includi
 ng policymakers\, technology firms\, and industry leaders.\nSecure your sp
 ot now! Attend the 2025 Utah AI Summit to gain valuable insights and conne
 ctions that will help you navigate the challenges and opportunities of art
 ificial intelligence responsibly.
DTSTART;TZID=America/Denver:20251202T083000
DTEND;TZID=America/Denver:20251202T160000
LOCATION:Salt Palace Convention Center\, 100 S W Temple St\, Salt Lake City
 \, UT 84101 US
SUMMARY:UT DEPT OF COMMERCE - Utah AI Summit
END:VEVENT
END:VCALENDAR
