BEGIN:VCALENDAR
VERSION:2.0
PRODID:-//caputah.org//NONSGML kigkonsult.se iCalcreator 2.30.10//
CALSCALE:GREGORIAN
METHOD:PUBLISH
UID:eee6e739-7059-42aa-aa19-7e3c54c476de
X-WR-CALDESC:Since 1999\, the Association of Fundraising Professionals Utah
  Chapter\, Utah Nonprofits Association\, and UServeUtah have celebrated Ut
 ah's outstanding philanthropists and volunteers at the annual Utah Philant
 hropy Day Luncheon. \n\nEight prestigious awards along with the Heart & Ha
 nds and Corporate Community Champion accolade awards honor the critical ne
 xus between visionary\, supportive philanthropy and thriving\, creative no
 nprofit organizations that respond to community concerns and the need for 
 change.\n\nJoin us for Utah's flagship celebration of philanthropy and vol
 unteerism as we honor inspiring stories\, connect with one another\, and u
 plift the generosity that strengthens our Utah communities.\n\nPricing\nCo
 rporate Table $1\,450 (8 tickets)\nNonprofit Partner $1\,000 (8 tickets)\n
 Nonprofit Table $700 (8 tickets)\nGeneral Admission Ticket $195\nNonprofit
  Ticket $100\n\nContact Information\nName: Utah Philanthropy Day\nEmail: u
 tahphilanthropyday@utahnonprofits.org
X-WR-RELCALID:7693a4d58dffae9e13b26f60698b0f4d
X-WR-TIMEZONE:America/Denver
BEGIN:VTIMEZONE
TZID:America/Denver
BEGIN:STANDARD
TZNAME:MST
DTSTART:20251102T020000
TZOFFSETFROM:-0600
TZOFFSETTO:-0700
RDATE:20261101T020000
END:STANDARD
BEGIN:DAYLIGHT
TZNAME:MDT
DTSTART:20250309T020000
TZOFFSETFROM:-0700
TZOFFSETTO:-0600
RDATE:20260308T020000
RDATE:20270314T020000
END:DAYLIGHT
END:VTIMEZONE
BEGIN:VEVENT
UID:84d42578-df16-4d2e-ad3a-88ce0b9efd7e
DTSTAMP:20260422T072754Z
DESCRIPTION:Since 1999\, the Association of Fundraising Professionals Utah 
 Chapter\, Utah Nonprofits Association\, and UServeUtah have celebrated Uta
 h's outstanding philanthropists and volunteers at the annual Utah Philanth
 ropy Day Luncheon. \n\nEight prestigious awards along with the Heart & Han
 ds and Corporate Community Champion accolade awards honor the critical nex
 us between visionary\, supportive philanthropy and thriving\, creative non
 profit organizations that respond to community concerns and the need for c
 hange.\n\nJoin us for Utah's flagship celebration of philanthropy and volu
 nteerism as we honor inspiring stories\, connect with one another\, and up
 lift the generosity that strengthens our Utah communities.\n\nPricing\nCor
 porate Table $1\,450 (8 tickets)\nNonprofit Partner $1\,000 (8 tickets)\nN
 onprofit Table $700 (8 tickets)\nGeneral Admission Ticket $195\nNonprofit 
 Ticket $100\n\nContact Information\nName: Utah Philanthropy Day\nEmail: ut
 ahphilanthropyday@utahnonprofits.org
DTSTART;TZID=America/Denver:20251205T110000
DTEND;TZID=America/Denver:20251205T130000
LOCATION:The Grand America Hotel\, 555 Main St\, Salt Lake City\, UT 84111 
 US
SUMMARY:UNA - 2025 Utah Philanthropy Day
END:VEVENT
END:VCALENDAR
