BEGIN:VCALENDAR
VERSION:2.0
PRODID:-//caputah.org//NONSGML kigkonsult.se iCalcreator 2.30.10//
CALSCALE:GREGORIAN
METHOD:PUBLISH
UID:4e368d8e-9742-44a3-b3ee-6ed76830b010
X-WR-CALDESC:\nJoin CAPLAW on Wednesday\, December 10\, from 1:00 – 2:00 PM
  EST for a webinar showcasing several of our new resources and tools. CAPL
 AW attorneys will explain key elements of the legal framework behind each 
 resource\, as well as how the information can be used to enhance CAAs’ com
 pliance\, operations\, and programs. This session will also include a brie
 f demonstration of some resources to boost usability and highlight special
  features. \n\nEvents & Trainings Calendar: Provides information about upc
 oming trainings on legal topics relevant to the Network by law firms\, con
 sultants\, and other external organizations. \n\nBylaws Toolkit: Outlines 
 key concepts for an agency’s governing documents to help CAAs develop byla
 ws that are clear\, effective\, and up-to-date. \n\nUniform Guidance Cross
 walk: Focuses on key substantive changes made in 2024 to the Uniform Guida
 nce and includes a comparison of the pre- and post-October 2024 versions\,
  as well as insights to assist in understanding the changes \n\nDynamic Du
 os Podcast: Features an executive director and board chair discussing key 
 aspects of their collaborative relationship\, and the accompanying discuss
 ion guide provides a way for boards to use the podcast in their training p
 rocesses. \n\nStrategic Collaborations Between CAAs and Tribal Entities: I
 ncludes case studies that showcase some of the innovative ways that CAAs a
 re working with tribes and serving tribal communities with CSBG funds.
X-WR-RELCALID:61ca3ffc44ca322f806399318a6f5e61
X-WR-TIMEZONE:America/Denver
BEGIN:VTIMEZONE
TZID:America/Denver
BEGIN:STANDARD
TZNAME:MST
DTSTART:20251102T020000
TZOFFSETFROM:-0600
TZOFFSETTO:-0700
RDATE:20261101T020000
END:STANDARD
BEGIN:DAYLIGHT
TZNAME:MDT
DTSTART:20250309T020000
TZOFFSETFROM:-0700
TZOFFSETTO:-0600
RDATE:20260308T020000
RDATE:20270314T020000
END:DAYLIGHT
END:VTIMEZONE
BEGIN:VEVENT
UID:3d3e68d9-a2c9-4dc6-a2b4-9cb7e48bb479
DTSTAMP:20260422T072446Z
DESCRIPTION:\nJoin CAPLAW on Wednesday\, December 10\, from 1:00 – 2:00 PM 
 EST for a webinar showcasing several of our new resources and tools. CAPLA
 W attorneys will explain key elements of the legal framework behind each r
 esource\, as well as how the information can be used to enhance CAAs’ comp
 liance\, operations\, and programs. This session will also include a brief
  demonstration of some resources to boost usability and highlight special 
 features. \n\nEvents & Trainings Calendar: Provides information about upco
 ming trainings on legal topics relevant to the Network by law firms\, cons
 ultants\, and other external organizations. \n\nBylaws Toolkit: Outlines k
 ey concepts for an agency’s governing documents to help CAAs develop bylaw
 s that are clear\, effective\, and up-to-date. \n\nUniform Guidance Crossw
 alk: Focuses on key substantive changes made in 2024 to the Uniform Guidan
 ce and includes a comparison of the pre- and post-October 2024 versions\, 
 as well as insights to assist in understanding the changes \n\nDynamic Duo
 s Podcast: Features an executive director and board chair discussing key a
 spects of their collaborative relationship\, and the accompanying discussi
 on guide provides a way for boards to use the podcast in their training pr
 ocesses. \n\nStrategic Collaborations Between CAAs and Tribal Entities: In
 cludes case studies that showcase some of the innovative ways that CAAs ar
 e working with tribes and serving tribal communities with CSBG funds.
DTSTART;TZID=America/Denver:20251210T110000
DTEND;TZID=America/Denver:20251210T120000
LOCATION:https://us06web.zoom.us/webinar/register/WN_SJfNja5mR8ycOwPIG0x_Xg
 #/registration
SUMMARY:CAPLAW - CAPLAW Pulse: New Resources You Should Know
END:VEVENT
END:VCALENDAR
