BEGIN:VCALENDAR
VERSION:2.0
PRODID:-//caputah.org//NONSGML kigkonsult.se iCalcreator 2.30.10//
CALSCALE:GREGORIAN
METHOD:PUBLISH
UID:1707da07-aa2a-4c3d-a2e3-9b49ee51317c
X-WR-CALDESC:Are you ready to strengthen your understanding of excellence a
 nd support your peers across the Community Action Network? \n\nJoin NCAP’s
  Pathways to Excellence team for a two-part virtual training that prepares
  you to serve as a Pathways Peer Reviewer—a valued role that supports agen
 cies in assessing and advancing their excellence practices. \n\nTwo aftern
 oons: WEDNESDAY\, DECEMBER 10 & 17 from 1 pm - 5 pm ET \n\nRegistration Fe
 e: $449 per person for Members\; $549 per person for Non-Members\n\nPartic
 ipants must attend both sessions and meet other criteria to be eligible to
  serve as a Peer Reviewer for the Pathways to Excellence program. \n\nPlea
 se note: All network members are welcome to attend this training\; however
 \, only those who meet the eligibility criteria may serve as Pathways to E
 xcellence Peer Reviewers.
X-WR-RELCALID:fd85e532314cd576509ec5978bc73e22
X-WR-TIMEZONE:America/Denver
BEGIN:VTIMEZONE
TZID:America/Denver
BEGIN:STANDARD
TZNAME:MST
DTSTART:20251102T020000
TZOFFSETFROM:-0600
TZOFFSETTO:-0700
RDATE:20261101T020000
END:STANDARD
BEGIN:DAYLIGHT
TZNAME:MDT
DTSTART:20250309T020000
TZOFFSETFROM:-0700
TZOFFSETTO:-0600
RDATE:20260308T020000
RDATE:20270314T020000
END:DAYLIGHT
END:VTIMEZONE
BEGIN:VEVENT
UID:41320248-4a04-4bc6-82c0-efe90bc8329d
DTSTAMP:20260422T072922Z
DESCRIPTION:Are you ready to strengthen your understanding of excellence an
 d support your peers across the Community Action Network? \n\nJoin NCAP’s 
 Pathways to Excellence team for a two-part virtual training that prepares 
 you to serve as a Pathways Peer Reviewer—a valued role that supports agenc
 ies in assessing and advancing their excellence practices. \n\nTwo afterno
 ons: WEDNESDAY\, DECEMBER 10 & 17 from 1 pm - 5 pm ET \n\nRegistration Fee
 : $449 per person for Members\; $549 per person for Non-Members\n\nPartici
 pants must attend both sessions and meet other criteria to be eligible to 
 serve as a Peer Reviewer for the Pathways to Excellence program. \n\nPleas
 e note: All network members are welcome to attend this training\; however\
 , only those who meet the eligibility criteria may serve as Pathways to Ex
 cellence Peer Reviewers.
DTSTART;TZID=America/Denver:20251210T110000
DTEND;TZID=America/Denver:20251210T150000
LOCATION:https://ncap.users.membersuite.com/events/9a6db3bd-0078-c886-364d-
 0b48de75c7ba/details
SUMMARY:NCAP - 2025 Excellence Peer Reviewer Training Day 1
END:VEVENT
END:VCALENDAR
