BEGIN:VCALENDAR
VERSION:2.0
PRODID:-//caputah.org//NONSGML kigkonsult.se iCalcreator 2.30.10//
CALSCALE:GREGORIAN
METHOD:PUBLISH
UID:34b9339b-9bfd-47fc-af53-fc8e8107af7e
X-WR-CALDESC:This webinar training offers a practical overview of tools and
  resources available through the Collaborative on Economic Mobility that a
 re designed to help support individuals\, families\, and communities on th
 e journey to economic mobility. Participants will explore the curated sele
 ction of resources that address common challenges to economic mobility and
  will gain insight into actionable strategies for implementation with loca
 l community initiatives.
X-WR-RELCALID:26870ed0adcb69fb7475c6e28a76f289
X-WR-TIMEZONE:America/Denver
BEGIN:VTIMEZONE
TZID:America/Denver
BEGIN:STANDARD
TZNAME:MST
DTSTART:20251102T020000
TZOFFSETFROM:-0600
TZOFFSETTO:-0700
RDATE:20261101T020000
END:STANDARD
BEGIN:DAYLIGHT
TZNAME:MDT
DTSTART:20250309T020000
TZOFFSETFROM:-0700
TZOFFSETTO:-0600
RDATE:20260308T020000
RDATE:20270314T020000
END:DAYLIGHT
END:VTIMEZONE
BEGIN:VEVENT
UID:ecc6c1b7-9ad1-4ded-b06d-a4d1c808dc2b
DTSTAMP:20260422T073004Z
DESCRIPTION:This webinar training offers a practical overview of tools and 
 resources available through the Collaborative on Economic Mobility that ar
 e designed to help support individuals\, families\, and communities on the
  journey to economic mobility. Participants will explore the curated selec
 tion of resources that address common challenges to economic mobility and 
 will gain insight into actionable strategies for implementation with local
  community initiatives.
DTSTART;TZID=America/Denver:20251211T120000
DTEND;TZID=America/Denver:20251211T130000
LOCATION:https://communityactionpartnership.zoom.us/webinar/register/WN_UsH
 aHVdvT2CzzU_Z8N0IcQ?ampDeviceId=145a5e67-c198-40e1-9b70-7d3d826875e0&ampSe
 ssionId=1762541844342&_ics=1762544695926&irclickid=~68021SMUZONVWMJDBCJPGx
 yFLExyxDuogngcd560WVPOKEyskgd6&_gl=1*muy9
SUMMARY:NCAP - Equipping the Journey: Exploring the Resources from the Coll
 aborative on Economic Mobility
END:VEVENT
END:VCALENDAR
