BEGIN:VCALENDAR
VERSION:2.0
PRODID:-//caputah.org//NONSGML kigkonsult.se iCalcreator 2.30.10//
CALSCALE:GREGORIAN
METHOD:PUBLISH
UID:48952ba9-6664-424e-83d4-eaf0160c8cbc
X-WR-CALDESC:\nNCAP invites the entire Community Action Network to a series
  of 15-minute meetings aimed to connect members\, inspire hope and the pow
 er of the Community Action Promise. The entire Network is invited to parti
 cipate monthly. Join us on:\n\nSeptember 15th:  2:00pm ET / 1:00pm CT / 12
 :00pm MT / 11:00am PT \nOctober 10th: 2:00pm ET / 1:00pm CT / 12:00pm MT /
  11:00am PT \nNovember 20th: 4:00pm ET / 3:00pm CT / 2:00pm MT / 1:00pm PT
  \nDecember 11th: 4:00pm ET / 3:00pm CT / 2:00pm MT / 1:00pm PT
X-WR-RELCALID:d416c6da0e05a86497cf098550546f13
X-WR-TIMEZONE:America/Denver
BEGIN:VTIMEZONE
TZID:America/Denver
BEGIN:STANDARD
TZNAME:MST
DTSTART:20251102T020000
TZOFFSETFROM:-0600
TZOFFSETTO:-0700
RDATE:20261101T020000
END:STANDARD
BEGIN:DAYLIGHT
TZNAME:MDT
DTSTART:20250309T020000
TZOFFSETFROM:-0700
TZOFFSETTO:-0600
RDATE:20260308T020000
RDATE:20270314T020000
END:DAYLIGHT
END:VTIMEZONE
BEGIN:VEVENT
UID:3b17df22-7516-483b-973c-4b0990f254e7
DTSTAMP:20260422T072922Z
DESCRIPTION:\nNCAP invites the entire Community Action Network to a series 
 of 15-minute meetings aimed to connect members\, inspire hope and the powe
 r of the Community Action Promise. The entire Network is invited to partic
 ipate monthly. Join us on:\n\nSeptember 15th:  2:00pm ET / 1:00pm CT / 12:
 00pm MT / 11:00am PT \nOctober 10th: 2:00pm ET / 1:00pm CT / 12:00pm MT / 
 11:00am PT \nNovember 20th: 4:00pm ET / 3:00pm CT / 2:00pm MT / 1:00pm PT 
 \nDecember 11th: 4:00pm ET / 3:00pm CT / 2:00pm MT / 1:00pm PT
DTSTART;TZID=America/Denver:20251211T140000
DTEND;TZID=America/Denver:20251211T141500
LOCATION:https://communityactionpartnership.zoom.us/meeting/register/3TXk7J
 dMQVKjqv4nc4b-iA#/registration
SUMMARY:NCAP - Promise Power Up: December 11th
END:VEVENT
END:VCALENDAR
