BEGIN:VCALENDAR
VERSION:2.0
PRODID:-//caputah.org//NONSGML kigkonsult.se iCalcreator 2.30.10//
CALSCALE:GREGORIAN
METHOD:PUBLISH
UID:ac0ee0fd-eace-40db-babb-41aef2e77408
X-WR-CALDESC:Join us for the top 12 sessions from Wipfli's Stronger to Serv
 e conference - virtually!\n\nWeek 1: Leadership and talent management\n\nW
 eek 2: Fiscal and cybersecurity\n\nPricing:\n\nBoth weeks: $950 per person
 \n\nWeek 1 or week 2 only: $475
X-WR-RELCALID:620b367c2bb7e5b9ccb2428e7693a58b
X-WR-TIMEZONE:America/Denver
BEGIN:VTIMEZONE
TZID:America/Denver
BEGIN:STANDARD
TZNAME:MST
DTSTART:20251102T020000
TZOFFSETFROM:-0600
TZOFFSETTO:-0700
RDATE:20261101T020000
END:STANDARD
BEGIN:DAYLIGHT
TZNAME:MDT
DTSTART:20250309T020000
TZOFFSETFROM:-0700
TZOFFSETTO:-0600
RDATE:20260308T020000
RDATE:20270314T020000
END:DAYLIGHT
END:VTIMEZONE
BEGIN:VEVENT
UID:46ed842b-5e97-446c-8d07-844981ac0c70
DTSTAMP:20260422T072814Z
DESCRIPTION:Join us for the top 12 sessions from Wipfli's Stronger to Serve
  conference - virtually!\n\nWeek 1: Leadership and talent management\n\nWe
 ek 2: Fiscal and cybersecurity\n\nPricing:\n\nBoth weeks: $950 per person
 \n\nWeek 1 or week 2 only: $475
DTSTART;TZID=America/Denver:20251202T040000
DTEND;TZID=America/Denver:20251211T040001
LOCATION:https://www.wipfli.com/events/2025-virtual-stronger-to-serve?utm_m
 edium=email&utm_term=N%2FA&utm_source=CIJ&utm_content=NGE%20-%20Email%20up
 coming%20trainings%20-%2011.4.25%20%28KA%29&utm_campaign=NGE%20-%202025%20
 Training%20Emails
SUMMARY:WIPFLI - 2025 Virtual Stronger to Serve
END:VEVENT
END:VCALENDAR
