BEGIN:VCALENDAR
VERSION:2.0
PRODID:-//caputah.org//NONSGML kigkonsult.se iCalcreator 2.30.10//
CALSCALE:GREGORIAN
METHOD:PUBLISH
UID:10f1cdd3-be0e-49fe-8407-50407c31efe6
X-WR-CALDESC:Community Action Agencies are coordinating and operating a wid
 e range of transit solutions that help people and families stay connected 
 to work\, education\, health care\, and daily needs. This session features
  CAA transit providers showcasing how volunteer driver programs\, fixed-ro
 ute services\, non-emergency medical transportation\, coordinated transit 
 efforts\, and on-demand models function in real communities\, with insight
 s and resources from the Coordinating Council on Access and Mobility Techn
 ical Assistance Center (CCAM-TAC). Participants will have space to explore
  the models that resonate with their agency\, hear how peers are putting t
 hem into practice\, and connect with others who are advancing transportati
 on options across the network.
X-WR-RELCALID:fda32800db33e7dffecc2828d32abf52
X-WR-TIMEZONE:America/Denver
BEGIN:VTIMEZONE
TZID:America/Denver
BEGIN:STANDARD
TZNAME:MST
DTSTART:20251102T020000
TZOFFSETFROM:-0600
TZOFFSETTO:-0700
RDATE:20261101T020000
END:STANDARD
BEGIN:DAYLIGHT
TZNAME:MDT
DTSTART:20250309T020000
TZOFFSETFROM:-0700
TZOFFSETTO:-0600
RDATE:20260308T020000
RDATE:20270314T020000
END:DAYLIGHT
END:VTIMEZONE
BEGIN:VEVENT
UID:c08d5b57-ca93-48b7-864f-0f23f76fef6e
DTSTAMP:20260422T072609Z
DESCRIPTION:Community Action Agencies are coordinating and operating a wide
  range of transit solutions that help people and families stay connected t
 o work\, education\, health care\, and daily needs. This session features 
 CAA transit providers showcasing how volunteer driver programs\, fixed-rou
 te services\, non-emergency medical transportation\, coordinated transit e
 fforts\, and on-demand models function in real communities\, with insights
  and resources from the Coordinating Council on Access and Mobility Techni
 cal Assistance Center (CCAM-TAC). Participants will have space to explore 
 the models that resonate with their agency\, hear how peers are putting th
 em into practice\, and connect with others who are advancing transportatio
 n options across the network.
DTSTART;TZID=America/Denver:20251215T120000
DTEND;TZID=America/Denver:20251215T130000
LOCATION:https://communityactionpartnership.zoom.us/meeting/register/2x-eDj
 giQPSgb__7KrWgig#/registration
SUMMARY:NCAP - Community Action Transit Forum: Connecting Models\, Communit
 ies\, and CAA Practice
END:VEVENT
END:VCALENDAR
