BEGIN:VCALENDAR
VERSION:2.0
PRODID:-//caputah.org//NONSGML kigkonsult.se iCalcreator 2.30.10//
CALSCALE:GREGORIAN
METHOD:PUBLISH
UID:c6f8959f-8771-40f7-ba0b-9e78a7251833
X-WR-CALDESC:Join us for a year-end Coffee Chat with David Bradley as we re
 flect on a year of unexpected disruption across the CSBG Network and prepa
 re for the challenges ahead. We encourage participants to submit questions
  in advance to help shape the discussion. \n\nRegistrations will be approv
 ed starting Tuesday December 16th. Registration priority is given to Commu
 nity Action Agencies and their state associations.
X-WR-RELCALID:f6522ae174eb7a99dd278e402ff322f5
X-WR-TIMEZONE:America/Denver
BEGIN:VTIMEZONE
TZID:America/Denver
BEGIN:STANDARD
TZNAME:MST
DTSTART:20251102T020000
TZOFFSETFROM:-0600
TZOFFSETTO:-0700
RDATE:20261101T020000
END:STANDARD
BEGIN:DAYLIGHT
TZNAME:MDT
DTSTART:20250309T020000
TZOFFSETFROM:-0700
TZOFFSETTO:-0600
RDATE:20260308T020000
RDATE:20270314T020000
END:DAYLIGHT
END:VTIMEZONE
BEGIN:VEVENT
UID:b13a8e06-fdf4-4f21-a9d7-4cc1295ff890
DTSTAMP:20260422T072446Z
DESCRIPTION:Join us for a year-end Coffee Chat with David Bradley as we ref
 lect on a year of unexpected disruption across the CSBG Network and prepar
 e for the challenges ahead. We encourage participants to submit questions 
 in advance to help shape the discussion. \n\nRegistrations will be approve
 d starting Tuesday December 16th. Registration priority is given to Commun
 ity Action Agencies and their state associations.
DTSTART;TZID=America/Denver:20251218T123000
DTEND;TZID=America/Denver:20251218T133000
LOCATION:https://us02web.zoom.us/webinar/register/WN_WTIVKsqfSqu_r3sFGSfL1Q
 #/registration
SUMMARY:NCAF - Year-End Coffee Chat
END:VEVENT
END:VCALENDAR
