BEGIN:VCALENDAR
VERSION:2.0
PRODID:-//caputah.org//NONSGML kigkonsult.se iCalcreator 2.30.10//
CALSCALE:GREGORIAN
METHOD:PUBLISH
UID:ccf8b9d9-607f-4476-9236-23cf3028b2d5
X-WR-CALDESC:Join us for a practical and engaging virtual training of the O
 ffice of Management and Budget’s (OMB) Uniform Guidance (2 CFR Part 200) —
  the cornerstone of federal grant compliance. This training is designed to
  help nonprofit and governmental professionals understand the federal gran
 t regulations\, how to apply them and how to avoid common pitfalls in mana
 ging federal awards.\n\nLed by experienced trainers with years of auditing
  and consulting expertise\, this session blends regulatory review with rea
 l-world examples and actionable insights. Whether you're new to federal gr
 ants or looking to refresh your knowledge\, this training will provide the
  clarity and confidence you need to manage awards responsibly.\n\nJoin us 
 from the comfort of your location. Sign up today.\n\nRegistration fee\n$10
 50 per person\n\nMy Wipfli nonprofit and government membership service mem
 bers automatically receive an additional $25 discount per registrant.\n\nD
 aily schedule\nTuesday\, December 16\, 2025\n12:30 p.m.-4 p.m. CT | Genera
 l provisions\, administrative requirement and procurement\n\nWednesday\, D
 ecember 17\, 2025  \n12:30 p.m.-4 p.m. CT | Monitoring and reporting\, cos
 t principles and cost allocation\n\nThursday\, December 18\, 2025\n12:30 p
 .m.-4 p.m. CT | Selected items of cost and audit requirements
X-WR-RELCALID:9497e32d40a2e79d3b99fb90b22aa462
X-WR-TIMEZONE:America/Denver
BEGIN:VTIMEZONE
TZID:America/Denver
BEGIN:STANDARD
TZNAME:MST
DTSTART:20251102T020000
TZOFFSETFROM:-0600
TZOFFSETTO:-0700
RDATE:20261101T020000
END:STANDARD
BEGIN:DAYLIGHT
TZNAME:MDT
DTSTART:20250309T020000
TZOFFSETFROM:-0700
TZOFFSETTO:-0600
RDATE:20260308T020000
RDATE:20270314T020000
END:DAYLIGHT
END:VTIMEZONE
BEGIN:VEVENT
UID:73912d79-ca16-4acd-8eab-fa5d368a3b57
DTSTAMP:20260422T072614Z
DESCRIPTION:Join us for a practical and engaging virtual training of the Of
 fice of Management and Budget’s (OMB) Uniform Guidance (2 CFR Part 200) — 
 the cornerstone of federal grant compliance. This training is designed to 
 help nonprofit and governmental professionals understand the federal grant
  regulations\, how to apply them and how to avoid common pitfalls in manag
 ing federal awards.\n\nLed by experienced trainers with years of auditing 
 and consulting expertise\, this session blends regulatory review with real
 -world examples and actionable insights. Whether you're new to federal gra
 nts or looking to refresh your knowledge\, this training will provide the 
 clarity and confidence you need to manage awards responsibly.\n\nJoin us f
 rom the comfort of your location. Sign up today.\n\nRegistration fee\n$105
 0 per person\n\nMy Wipfli nonprofit and government membership service memb
 ers automatically receive an additional $25 discount per registrant.\n\nDa
 ily schedule\nTuesday\, December 16\, 2025\n12:30 p.m.-4 p.m. CT | General
  provisions\, administrative requirement and procurement\n\nWednesday\, De
 cember 17\, 2025  \n12:30 p.m.-4 p.m. CT | Monitoring and reporting\, cost
  principles and cost allocation\n\nThursday\, December 18\, 2025\n12:30 p.
 m.-4 p.m. CT | Selected items of cost and audit requirements
DTSTART;TZID=America/Denver:20251216T040000
DTEND;TZID=America/Denver:20251218T040001
LOCATION:https://www.wipfli.com/events/nge-omb-uniform-guidance-december-20
 25?utm_medium=email&utm_term=N%2FA&utm_source=CIJ&utm_content=NGE%20-%20Em
 ail%20upcoming%20trainings%20-%2011.4.25%20%28KA%29&utm_campaign=NGE%20-%2
 02025%20Training%20Emails
SUMMARY:WIPFLI - Uniform Guidance regulation training
END:VEVENT
END:VCALENDAR
