BEGIN:VCALENDAR
VERSION:2.0
PRODID:-//caputah.org//NONSGML kigkonsult.se iCalcreator 2.30.10//
CALSCALE:GREGORIAN
METHOD:PUBLISH
UID:0ff24efe-66cb-4f79-973e-dd96d7a21635
X-WR-CALDESC:Learn how Community Action Program of Ramsey and Washington Co
 unties (CAPRW) used a systematic\, data-informed approach to Redefine\, Op
 timize\, Assess\, and Demonstrate quality to pave the way to sustained imp
 rovements in their Head Start program. Hear lessons learned\, continued ef
 forts\, and how you can deploy similar approaches in various programs at y
 our agency.
X-WR-RELCALID:a4f531a151f42beebaacff8c1407670f
X-WR-TIMEZONE:America/Denver
BEGIN:VTIMEZONE
TZID:America/Denver
BEGIN:STANDARD
TZNAME:MST
DTSTART:20251102T020000
TZOFFSETFROM:-0600
TZOFFSETTO:-0700
RDATE:20261101T020000
END:STANDARD
BEGIN:DAYLIGHT
TZNAME:MDT
DTSTART:20250309T020000
TZOFFSETFROM:-0700
TZOFFSETTO:-0600
RDATE:20260308T020000
RDATE:20270314T020000
END:DAYLIGHT
END:VTIMEZONE
BEGIN:VEVENT
UID:f4548eaf-cdbe-4a4c-8e69-529dca3b90ab
DTSTAMP:20260422T053854Z
DESCRIPTION:Learn how Community Action Program of Ramsey and Washington Cou
 nties (CAPRW) used a systematic\, data-informed approach to Redefine\, Opt
 imize\, Assess\, and Demonstrate quality to pave the way to sustained impr
 ovements in their Head Start program. Hear lessons learned\, continued eff
 orts\, and how you can deploy similar approaches in various programs at yo
 ur agency.
DTSTART;TZID=America/Denver:20260107T120000
DTEND;TZID=America/Denver:20260107T130000
LOCATION:https://communityactionpartnership.zoom.us/meeting/register/JVqA86
 DxTYSZ5HYfVDEouw#/registration
SUMMARY:NCAP - Peer Data Webinar Series: The ROAD to Continuous Quality Imp
 rovement
END:VEVENT
END:VCALENDAR
