BEGIN:VCALENDAR
VERSION:2.0
PRODID:-//caputah.org//NONSGML kigkonsult.se iCalcreator 2.30.10//
CALSCALE:GREGORIAN
METHOD:PUBLISH
UID:fcbc7ec1-1cdd-4789-9973-f9f827fa006f
X-WR-CALDESC:\nScaling WFA: A Journey of Growth and Impact with Bluegrass C
 ommunity Action Partnership and gain an inside look at how Bluegrass Commu
 nity Action Partnership\, a Community Action Agency based in Frankfort\, K
 entucky has shifted its culture\, practices\, and services to focus on bot
 h children and their parents simultaneously. From their early beginnings t
 o their current achievements and their vision for what’s next\, Bluegrass 
 CAP is transforming how families are supported across various agency syste
 ms and programs. The session will include highlights from their newly rele
 ased Whole Family design brief and share how they are presenting their pro
 gress and work to potential funders
X-WR-RELCALID:4e62d8317adff61b03b47069cb5a4567
X-WR-TIMEZONE:America/Denver
BEGIN:VTIMEZONE
TZID:America/Denver
BEGIN:STANDARD
TZNAME:MST
DTSTART:20251102T020000
TZOFFSETFROM:-0600
TZOFFSETTO:-0700
RDATE:20261101T020000
END:STANDARD
BEGIN:DAYLIGHT
TZNAME:MDT
DTSTART:20250309T020000
TZOFFSETFROM:-0700
TZOFFSETTO:-0600
RDATE:20260308T020000
RDATE:20270314T020000
END:DAYLIGHT
END:VTIMEZONE
BEGIN:VEVENT
UID:c3df8d9a-94fb-4e11-9aa5-c9a537136aea
DTSTAMP:20260422T054434Z
DESCRIPTION:\nScaling WFA: A Journey of Growth and Impact with Bluegrass Co
 mmunity Action Partnership and gain an inside look at how Bluegrass Commun
 ity Action Partnership\, a Community Action Agency based in Frankfort\, Ke
 ntucky has shifted its culture\, practices\, and services to focus on both
  children and their parents simultaneously. From their early beginnings to
  their current achievements and their vision for what’s next\, Bluegrass C
 AP is transforming how families are supported across various agency system
 s and programs. The session will include highlights from their newly relea
 sed Whole Family design brief and share how they are presenting their prog
 ress and work to potential funders
DTSTART;TZID=America/Denver:20260114T120000
DTEND;TZID=America/Denver:20260114T130000
LOCATION:https://communityactionpartnership.zoom.us/webinar/register/WN_V_t
 9NbhpRTKV4iY0_ys9ng#/registration
SUMMARY:NCAP - WFA Webinar Series: Building Stronger Systems\, Stronger Fam
 ilies: Scaling WFA: A Journey of Growth and Impact with Bluegrass Communit
 y Action Partnership
END:VEVENT
END:VCALENDAR
