BEGIN:VCALENDAR
VERSION:2.0
PRODID:-//caputah.org//NONSGML kigkonsult.se iCalcreator 2.30.10//
CALSCALE:GREGORIAN
METHOD:PUBLISH
UID:4adfc7b2-2426-41b2-a721-2dcb658e80a9
X-WR-CALDESC:Join us for an introductory webinar to learn about the Certifi
 ed Community Action Professional (CCAP) Program. We’ll cover key steps in 
 the certification process\, important deadlines\, available resources\, an
 d tips for success. Whether you’re a new candidate or exploring CCAP for t
 he future\, this session will help you start your journey with confidence.
X-WR-RELCALID:5fe5516c660a8c0be178b0bfaf0d10da
X-WR-TIMEZONE:America/Denver
BEGIN:VTIMEZONE
TZID:America/Denver
BEGIN:STANDARD
TZNAME:MST
DTSTART:20251102T020000
TZOFFSETFROM:-0600
TZOFFSETTO:-0700
RDATE:20261101T020000
END:STANDARD
BEGIN:DAYLIGHT
TZNAME:MDT
DTSTART:20250309T020000
TZOFFSETFROM:-0700
TZOFFSETTO:-0600
RDATE:20260308T020000
RDATE:20270314T020000
END:DAYLIGHT
END:VTIMEZONE
BEGIN:VEVENT
UID:efe91430-9b84-468b-baf3-8fb648fac10d
DTSTAMP:20260422T053806Z
DESCRIPTION:Join us for an introductory webinar to learn about the Certifie
 d Community Action Professional (CCAP) Program. We’ll cover key steps in t
 he certification process\, important deadlines\, available resources\, and
  tips for success. Whether you’re a new candidate or exploring CCAP for th
 e future\, this session will help you start your journey with confidence.
DTSTART;TZID=America/Denver:20260115T110000
DTEND;TZID=America/Denver:20260115T120000
LOCATION:https://ncap.users.membersuite.com/home
SUMMARY:NCAP - Welcome to the CCAP Program
END:VEVENT
END:VCALENDAR
