BEGIN:VCALENDAR
VERSION:2.0
PRODID:-//caputah.org//NONSGML kigkonsult.se iCalcreator 2.30.10//
CALSCALE:GREGORIAN
METHOD:PUBLISH
UID:547d84f7-cf4a-4c4e-a69f-79eb5dfa6e32
X-WR-CALDESC:\nJoin David Bradley for the first Coffee Chat of the 2026. \n
 \nAll registration will be approved starting Friday January 16th. Communit
 y Action Agencies and their Associations will have priority if capacity is
  reached.
X-WR-RELCALID:f53bd88fe8d890404e87bbf0020a0f23
X-WR-TIMEZONE:America/Denver
BEGIN:VTIMEZONE
TZID:America/Denver
BEGIN:STANDARD
TZNAME:MST
DTSTART:20251102T020000
TZOFFSETFROM:-0600
TZOFFSETTO:-0700
RDATE:20261101T020000
END:STANDARD
BEGIN:DAYLIGHT
TZNAME:MDT
DTSTART:20250309T020000
TZOFFSETFROM:-0700
TZOFFSETTO:-0600
RDATE:20260308T020000
RDATE:20270314T020000
END:DAYLIGHT
END:VTIMEZONE
BEGIN:VEVENT
UID:f9e5a99e-9561-426f-aebf-37d75b12da96
DTSTAMP:20260422T053838Z
DESCRIPTION:\nJoin David Bradley for the first Coffee Chat of the 2026. \n
 \nAll registration will be approved starting Friday January 16th. Communit
 y Action Agencies and their Associations will have priority if capacity is
  reached.
DTSTART;TZID=America/Denver:20260121T113000
DTEND;TZID=America/Denver:20260121T123000
LOCATION:https://us02web.zoom.us/webinar/register/WN_QlRl1If_TDGxLPaQynH1Vw
 #/registration
SUMMARY:NCAF - January 2026 Coffee Chat with David Bradley
END:VEVENT
END:VCALENDAR
