BEGIN:VCALENDAR
VERSION:2.0
PRODID:-//caputah.org//NONSGML kigkonsult.se iCalcreator 2.30.10//
CALSCALE:GREGORIAN
METHOD:PUBLISH
UID:f03fd807-94eb-4c9a-b6bc-492c7f46bf5e
X-WR-CALDESC:NCAP invites the entire Community Action Network to a series o
 f 15-minute meetings aimed to connect members\, inspire hope and the power
  of the Community Action Promise. The entire Network is invited to partici
 pate monthly. Join us on:\n\nJanuary 21st: 4:00pm ET / 3:00pm CT / 2:00pm 
 MT / 1:00pm PT\nMarch 31st: 4:00pm ET / 3:00pm CT / 2:00pm MT / 1:00pm PT
 \nMay 1st: 2:00pm ET / 1:00pm CT / 12:00pm MT / 11:00am PT\n\nPlease refer
  to the latest eNews or the NCAP website for registration links for each s
 ession.
X-WR-RELCALID:b9916e07bb9a24b1299baceb1b0e5233
X-WR-TIMEZONE:America/Denver
BEGIN:VTIMEZONE
TZID:America/Denver
BEGIN:STANDARD
TZNAME:MST
DTSTART:20251102T020000
TZOFFSETFROM:-0600
TZOFFSETTO:-0700
RDATE:20261101T020000
END:STANDARD
BEGIN:DAYLIGHT
TZNAME:MDT
DTSTART:20250309T020000
TZOFFSETFROM:-0700
TZOFFSETTO:-0600
RDATE:20260308T020000
RDATE:20270314T020000
END:DAYLIGHT
END:VTIMEZONE
BEGIN:VEVENT
UID:81d14bd7-30aa-4c49-926b-edb6d2b027ab
DTSTAMP:20260422T054006Z
DESCRIPTION:NCAP invites the entire Community Action Network to a series of
  15-minute meetings aimed to connect members\, inspire hope and the power 
 of the Community Action Promise. The entire Network is invited to particip
 ate monthly. Join us on:\n\nJanuary 21st: 4:00pm ET / 3:00pm CT / 2:00pm M
 T / 1:00pm PT\nMarch 31st: 4:00pm ET / 3:00pm CT / 2:00pm MT / 1:00pm PT\n
 May 1st: 2:00pm ET / 1:00pm CT / 12:00pm MT / 11:00am PT\n\nPlease refer t
 o the latest eNews or the NCAP website for registration links for each ses
 sion.
DTSTART;TZID=America/Denver:20260121T140000
DTEND;TZID=America/Denver:20260121T141500
LOCATION:https://communityactionpartnership.zoom.us/meeting/register/Uz0tW1
 YvTm-X6LrmSlAcGw#/registration
SUMMARY:NCAP - Promise Power Up: January 21\, 2026
END:VEVENT
END:VCALENDAR
