BEGIN:VCALENDAR
VERSION:2.0
PRODID:-//caputah.org//NONSGML kigkonsult.se iCalcreator 2.30.10//
CALSCALE:GREGORIAN
METHOD:PUBLISH
UID:0df33637-560e-40d7-b8b2-67bfd4ca01cf
X-WR-CALDESC:
X-WR-RELCALID:88a00aba390b479821dfd9ac24334799
X-WR-TIMEZONE:America/Denver
BEGIN:VTIMEZONE
TZID:America/Denver
BEGIN:STANDARD
TZNAME:MST
DTSTART:20251102T020000
TZOFFSETFROM:-0600
TZOFFSETTO:-0700
RDATE:20261101T020000
END:STANDARD
BEGIN:DAYLIGHT
TZNAME:MDT
DTSTART:20250309T020000
TZOFFSETFROM:-0700
TZOFFSETTO:-0600
RDATE:20260308T020000
RDATE:20270314T020000
END:DAYLIGHT
END:VTIMEZONE
BEGIN:VEVENT
UID:79cf56a1-82d4-479e-9ba4-953cce89bc00
DTSTAMP:20260422T053644Z
DESCRIPTION:
DTSTART;TZID=America/Denver:20260122T083000
DTEND;TZID=America/Denver:20260122T093000
LOCATION:875 E\, UT-19\, 3159 Grant Avenue\, Layton\, UT 84040 US
SUMMARY:SPDAT CASFB
END:VEVENT
END:VCALENDAR
