BEGIN:VCALENDAR
VERSION:2.0
PRODID:-//caputah.org//NONSGML kigkonsult.se iCalcreator 2.30.10//
CALSCALE:GREGORIAN
METHOD:PUBLISH
UID:401ab45b-0c3a-4074-b8d3-dad30faf9b91
X-WR-CALDESC:The Utah Legislative Session is around the corner! Join us for
  the 18th Annual Nonprofit Day on the Hill! You'll have the opportunity an
 d space to tell your organization's story to elected officials and advocat
 e on behalf of your mission and community.\n\nRegistration for tabling is 
 limited to 43 organizations. Once tables are sold out\, we will open 20 st
 anding room only spaces for individuals. Please note that this opportunity
  is only open to current nonprofit UNA members. Members\, please log in ab
 ove to access registration. Don't have a log in? Please request one online
 .\n\nTo register as an individual (i.e.\, not tabling)\, visit this link.
 \n\nNonprofit Day on the Hill is the one day that nonprofits from across t
 he state\, serving every cause\, can show up at the Utah Capitol and ask t
 hat our elected officials show up for nonprofits. Whether you are new to a
 dvocacy or a seasoned pro\, Nonprofit Day on the Hill is the perfect oppor
 tunity to get involved in Utah’s legislative session\, build relationships
  with elected officials\, forge alliances with nonprofits who believe in y
 our work\, and speak out on behalf of your mission. It’s one day—that has 
 the potential to create a lifetime of opportunities for your nonprofit.\n
 \nNonprofit Day on the Hill Registration Includes:  \n\nFree in person tra
 ining on how 501(c)(3) can safely engage in non-partisan advocacy and lobb
 ying\nNetworking and collaboration with fellow UNA member nonprofits \nOne
  six-foot table and two chairs in the Capitol Rotunda from 11 AM to 2 PM 
 \nPublicity and visibility for your nonprofit\n\nCost: \n$95 per organizat
 ion (only one registration per organization required)\n$30 per non-tabling
  individual\n\nLocation\nUtah State Senate\n\nThe Utah State Capitol Build
 ing
X-WR-RELCALID:7b13851ddf456d91d995bd9e29591512
X-WR-TIMEZONE:America/Denver
BEGIN:VTIMEZONE
TZID:America/Denver
BEGIN:STANDARD
TZNAME:MST
DTSTART:20251102T020000
TZOFFSETFROM:-0600
TZOFFSETTO:-0700
RDATE:20261101T020000
END:STANDARD
BEGIN:DAYLIGHT
TZNAME:MDT
DTSTART:20250309T020000
TZOFFSETFROM:-0700
TZOFFSETTO:-0600
RDATE:20260308T020000
RDATE:20270314T020000
END:DAYLIGHT
END:VTIMEZONE
BEGIN:VEVENT
UID:b7d26bc9-a273-4c68-b1af-c48a0fa07b90
DTSTAMP:20260422T054057Z
DESCRIPTION:The Utah Legislative Session is around the corner! Join us for 
 the 18th Annual Nonprofit Day on the Hill! You'll have the opportunity and
  space to tell your organization's story to elected officials and advocate
  on behalf of your mission and community.\n\nRegistration for tabling is l
 imited to 43 organizations. Once tables are sold out\, we will open 20 sta
 nding room only spaces for individuals. Please note that this opportunity 
 is only open to current nonprofit UNA members. Members\, please log in abo
 ve to access registration. Don't have a log in? Please request one online.
 \n\nTo register as an individual (i.e.\, not tabling)\, visit this link.\n
 \nNonprofit Day on the Hill is the one day that nonprofits from across the
  state\, serving every cause\, can show up at the Utah Capitol and ask tha
 t our elected officials show up for nonprofits. Whether you are new to adv
 ocacy or a seasoned pro\, Nonprofit Day on the Hill is the perfect opportu
 nity to get involved in Utah’s legislative session\, build relationships w
 ith elected officials\, forge alliances with nonprofits who believe in you
 r work\, and speak out on behalf of your mission. It’s one day—that has th
 e potential to create a lifetime of opportunities for your nonprofit.\n\nN
 onprofit Day on the Hill Registration Includes:  \n\nFree in person traini
 ng on how 501(c)(3) can safely engage in non-partisan advocacy and lobbyin
 g\nNetworking and collaboration with fellow UNA member nonprofits \nOne si
 x-foot table and two chairs in the Capitol Rotunda from 11 AM to 2 PM \nPu
 blicity and visibility for your nonprofit\n\nCost: \n$95 per organization 
 (only one registration per organization required)\n$30 per non-tabling ind
 ividual\n\nLocation\nUtah State Senate\n\nThe Utah State Capitol Building
DTSTART;TZID=America/Denver:20260122T110000
DTEND;TZID=America/Denver:20260122T140000
LOCATION:Utah State Capitol\, 350 State St\, Salt Lake City\, UT 84103 US
SUMMARY:UNA - 2026 Nonprofit Day on the Hill
END:VEVENT
END:VCALENDAR
