BEGIN:VCALENDAR
VERSION:2.0
PRODID:-//caputah.org//NONSGML kigkonsult.se iCalcreator 2.30.10//
CALSCALE:GREGORIAN
METHOD:PUBLISH
UID:f2affef9-1fd3-4305-a188-679e4bff3660
X-WR-CALDESC:Are you new to grant accounting? This beginner-level training 
 series is tailored for finance staff stepping into the world of grant acco
 unting and compliance. Through a series of focused sessions\, you'll build
  a foundation in the essential elements of grant management — from navigat
 ing federal regulations and applying internal controls to handling cost al
 location and reporting.\n\nWhether you are supporting a single grant or ma
 naging multiple funding streams\, this series will help you build confiden
 ce\, support your entity’s funding responsibilities and contribute to your
  community programs.\n\nLearning objectives:\nExperience an overview of gr
 ant-funded accounting and administration.\nGain practical steps for applyi
 ng internal controls and documentation practices.\nReview guidance on usin
 g Uniform Guidance (2 CFR Part 200) in daily work.\nDiscover strategies fo
 r distributing shared costs and preparing reports.\nExplore tools to stren
 gthen policies\, procedures and financial leadership.\n\nRegistration fee
 \n$1200 per person\n\nMy Wipfli nonprofit and government membership servic
 e members automatically receive an additional $25 discount per registrant.
 \n\nSeries schedule (Thursdays)\n01/08/26         Intro to grant-funded ac
 counting (1-3 p.m. CT)\n\n01/15/26         Intro to grants administration 
 (1-3 p.m. CT)\n\n01/22/26         Intro to internal controls\, documentati
 on and policies (1-3 p.m. CT)\n\n01/29/26         Intro to Uniform Guidanc
 e (1-3 p.m. CT)\n\n02/05/26         Intro to cost allocation (1-3 p.m. CT)
 \n\n02/12/26         Intro to reporting (1-3 p.m. CT)
X-WR-RELCALID:2f6e4ea5d4dc4e5dd1a93beb1b814870
X-WR-TIMEZONE:America/Denver
BEGIN:VTIMEZONE
TZID:America/Denver
BEGIN:STANDARD
TZNAME:MST
DTSTART:20251102T020000
TZOFFSETFROM:-0600
TZOFFSETTO:-0700
RDATE:20261101T020000
END:STANDARD
BEGIN:DAYLIGHT
TZNAME:MDT
DTSTART:20250309T020000
TZOFFSETFROM:-0700
TZOFFSETTO:-0600
RDATE:20260308T020000
RDATE:20270314T020000
END:DAYLIGHT
END:VTIMEZONE
BEGIN:VEVENT
UID:d411cb42-7aba-46e9-80a8-7e5912fa6d5d
DTSTAMP:20260422T054103Z
DESCRIPTION:Are you new to grant accounting? This beginner-level training s
 eries is tailored for finance staff stepping into the world of grant accou
 nting and compliance. Through a series of focused sessions\, you'll build 
 a foundation in the essential elements of grant management — from navigati
 ng federal regulations and applying internal controls to handling cost all
 ocation and reporting.\n\nWhether you are supporting a single grant or man
 aging multiple funding streams\, this series will help you build confidenc
 e\, support your entity’s funding responsibilities and contribute to your 
 community programs.\n\nLearning objectives:\nExperience an overview of gra
 nt-funded accounting and administration.\nGain practical steps for applyin
 g internal controls and documentation practices.\nReview guidance on using
  Uniform Guidance (2 CFR Part 200) in daily work.\nDiscover strategies for
  distributing shared costs and preparing reports.\nExplore tools to streng
 then policies\, procedures and financial leadership.\n\nRegistration fee\n
 $1200 per person\n\nMy Wipfli nonprofit and government membership service 
 members automatically receive an additional $25 discount per registrant.\n
 \nSeries schedule (Thursdays)\n01/08/26         Intro to grant-funded acco
 unting (1-3 p.m. CT)\n\n01/15/26         Intro to grants administration (1
 -3 p.m. CT)\n\n01/22/26         Intro to internal controls\, documentation
  and policies (1-3 p.m. CT)\n\n01/29/26         Intro to Uniform Guidance 
 (1-3 p.m. CT)\n\n02/05/26         Intro to cost allocation (1-3 p.m. CT)\n
 \n02/12/26         Intro to reporting (1-3 p.m. CT)
DTSTART;TZID=America/Denver:20260122T120000
DTEND;TZID=America/Denver:20260122T140000
LOCATION:https://www.wipfli.com/events/nge-grant-funded-accounting-101-fund
 amentals-a-beginners-training-series?utm_medium=email&utm_term=N%2FA&utm_s
 ource=CIJ&utm_content=NGE%20-%20Email%20upcoming%20trainings%20-%2011.4.25
 %20%28KA%29&utm_campaign=NGE%20-%202025%2
SUMMARY:WIPFLI - Grant Funded Accounting 101 Fundamentals: A Beginner’s Tra
 ining Series - Intro to internal controls\, documentation and policies
END:VEVENT
END:VCALENDAR
