BEGIN:VCALENDAR
VERSION:2.0
PRODID:-//caputah.org//NONSGML kigkonsult.se iCalcreator 2.30.10//
CALSCALE:GREGORIAN
METHOD:PUBLISH
UID:f06877a8-084b-4f2c-a969-387a1e9bdc6b
X-WR-CALDESC:The Service Prioritization Decision Assistance Tool (SPDAT) is
  a tool designed to help communities prioritize service delivery for peopl
 e experiencing homelessness by assessing their needs and vulnerabilities t
 o determine the most appropriate housing interventions. It is used by many
  Local Homeless Councils (LHC's) in Utah to coordinate entry for services 
 and it used as an evidence-based case management tool to assess progress t
 owards client goals.
X-WR-RELCALID:b6b5dfa2c2b661cbdf76ce1ebad0cf57
X-WR-TIMEZONE:America/Denver
BEGIN:VTIMEZONE
TZID:America/Denver
BEGIN:STANDARD
TZNAME:MST
DTSTART:20251102T020000
TZOFFSETFROM:-0600
TZOFFSETTO:-0700
RDATE:20261101T020000
END:STANDARD
BEGIN:DAYLIGHT
TZNAME:MDT
DTSTART:20250309T020000
TZOFFSETFROM:-0700
TZOFFSETTO:-0600
RDATE:20260308T020000
RDATE:20270314T020000
END:DAYLIGHT
END:VTIMEZONE
BEGIN:VEVENT
UID:3d0eb2e0-1cb3-4bae-80b9-4245530177da
DTSTAMP:20260422T053736Z
DESCRIPTION:The Service Prioritization Decision Assistance Tool (SPDAT) is 
 a tool designed to help communities prioritize service delivery for people
  experiencing homelessness by assessing their needs and vulnerabilities to
  determine the most appropriate housing interventions. It is used by many 
 Local Homeless Councils (LHC's) in Utah to coordinate entry for services a
 nd it used as an evidence-based case management tool to assess progress to
 wards client goals.
DTSTART;TZID=America/Denver:20260123T100000
DTEND;TZID=America/Denver:20260123T150000
LOCATION:Community Action Services and Food Bank\, 815 South Freedom Blvd.\
 , Provo\, UT 84601 US
SUMMARY:SPDAT Training at CASFB
END:VEVENT
END:VCALENDAR
