BEGIN:VCALENDAR
VERSION:2.0
PRODID:-//caputah.org//NONSGML kigkonsult.se iCalcreator 2.30.10//
CALSCALE:GREGORIAN
METHOD:PUBLISH
UID:34109d8c-51b0-49a9-bf15-36d5f62d18ce
X-WR-CALDESC:Orlando\, Florida  |  January 28th – 30th (Pre-Con: Jan. 26th 
 – 27th)\n\nNCAP’s Management and Leadership Training Conference (MLTC) is 
 designed for both current and aspiring leaders in Community Action and hum
 an services. The 2026 MLTC will offer immersive training sessions\, dynami
 c roundtable discussions\, and meaningful networking opportunities. Whethe
 r you’re a seasoned leader or preparing to take that next step into manage
 ment\, MLTC will equip you with the tools and insights to lead with confid
 ence and impact.
X-WR-RELCALID:83532697939f810afbe2fb00a62ce0a9
X-WR-TIMEZONE:America/Denver
BEGIN:VTIMEZONE
TZID:America/Denver
BEGIN:STANDARD
TZNAME:MST
DTSTART:20251102T020000
TZOFFSETFROM:-0600
TZOFFSETTO:-0700
RDATE:20261101T020000
END:STANDARD
BEGIN:DAYLIGHT
TZNAME:MDT
DTSTART:20250309T020000
TZOFFSETFROM:-0700
TZOFFSETTO:-0600
RDATE:20260308T020000
RDATE:20270314T020000
END:DAYLIGHT
END:VTIMEZONE
BEGIN:VEVENT
UID:22ab39e6-ee27-4dd1-8b6a-0da4d7f86a4d
DTSTAMP:20260422T073718Z
DESCRIPTION:Orlando\, Florida  |  January 28th – 30th (Pre-Con: Jan. 26th –
  27th)\n\nNCAP’s Management and Leadership Training Conference (MLTC) is d
 esigned for both current and aspiring leaders in Community Action and huma
 n services. The 2026 MLTC will offer immersive training sessions\, dynamic
  roundtable discussions\, and meaningful networking opportunities. Whether
  you’re a seasoned leader or preparing to take that next step into managem
 ent\, MLTC will equip you with the tools and insights to lead with confide
 nce and impact.
DTSTART;TZID=America/Denver:20260126T040000
DTEND;TZID=America/Denver:20260130T040001
LOCATION:Hilton Orlando Lake Buena Vista at Walt Disney World Resort\, 1751
  Hotel Plaza Boulevard\, Lake Buena Vista\, FL 32830 US
SUMMARY:NCAP - 2026 Management & Leadership Training Conference
END:VEVENT
END:VCALENDAR
